Workbook

Sheet Overview
A1: RAID-A in Contract Management
A2: Contract Contact
A3: Contract title: | B3: Name | C3: Reference no:
A4: Designated Contract Manager: | B4: Name | C4: Job title | D4: email | E4: initials
A5: Contract Team
A6: name | C6: Job title | D6: email | E6: initials
A7: name | C7: Job title | D7: email | E7: initials
A8: name | C8: Job title | D8: email | E8: initials
A10: Senior Responsible Officer (SRO) | B10: name | C10: Job title | D10: Contact Details | E10: initials
A12: RAID-A updated | B12: date | C12: Version no
A14: Circulation list
A15: name | C15: Job title | D15: email
A16: name | C16: Job title | D16: email
A17: name | C17: Job title | D17: email
A19: Summary results
A20: The headline RAG ratings will be aggregated from the completed templates
A21: Residual Risk: | B21: low | C21: medium | D21: high | E21: very high
B22: =COUNTIF(Risks!$J$3:$J$500,"<5") -> 1 | C22: =COUNTIFS(Risks!$I$3:$J$500,">4",Risks!$I$3:$J$500, "<13") -> 0 | D22: =COUNTIFS(Risks!$I$3:$J$500,">12",Risks!$I$3:$J$500, "<20") -> 0 | E22: =COUNTIF(Risks!$J$3:$J$500,">20") -> 0
A24: Assumptions: | B24: low | C24: medium | D24: high | E24: very high
B25: =COUNTIF(Assumptions!$E$3:$E$500,B24) -> 1 | C25: =COUNTIF(Assumptions!$E$3:$E$500,C24) -> 1 | D25: =COUNTIF(Assumptions!$E$3:$E$500,D24) -> 0 | E25: =COUNTIF(Assumptions!$E$3:$E$500,E24) -> 0
A27: Issues: | B27: low | C27: medium | D27: high | E27: very high
B28: =COUNTIF('Issues '!$G$3:$G$500,B27) -> 0 | C28: =COUNTIF('Issues '!$G$3:$G$500,C27) -> 0 | D28: =COUNTIF('Issues '!$G$3:$G$500,D27) -> 0 | E28: =COUNTIF('Issues '!$G$3:$G$500,E27) -> 1
A30: Actions: | B30: complete | C30: on track | D30: delayed | E30: missed
B31: =COUNTIF(Actions!$G$3:$G$500,B30) -> 0 | C31: =COUNTIF(Actions!$G$3:$G$500,C30) -> 1 | D31: =COUNTIF(Actions!$G$3:$G$500,D30) -> 1 | E31: =COUNTIF(Actions!$G$3:$G$500,E30) -> 0

Sheet RACI
C1: Date updated: | E1: RACI
C2: RACI ID | D2: Activity The different activity that will take place during the life of the contract | E2: Responsible The person who performs the work. | F2: Accountable The person ultimately accountable for the work or decision being made. | G2: Consulted Anyone who should be consulted with prior to a decision being made and/or the task being completed. | H2: Informed Anyone who must be informed when a decision is made or work is completed.
C3: RA.001
C4: RA.002
C5: RA.003
C6: RA.004
C7: RA.005
C8: RA.006
C9: RA.007
C10: RA.008
C11: RA.009
C12: RA.010
C13: RA.011
C14: RA.012
... C28: RA.026

Sheet Risk guidance
A1: Risk Guidance to support completion of the Risks Tab
A3: Risk Scoring Matrix | B3: LIKELIHOOD | C3: Probable | D3: 5 | E3: 10 | F3: 15 | G3: 20 | H3: 25
C4: Likely | D4: 4 | E4: 8 | F4: 12 | G4: 16 | H4: 20
C5: Possible | D5: 3 | E5: 6 | F5: 9 | G5: 12 | H5: 15
C6: Unlikely | D6: 2 | E6: 4 | F6: 6 | G6: 8 | H6: 10
C7: Rare | D7: 1 | E7: 2 | F7: 3 | G7: 4 | H7: 5
D8: Negligible | E8: Minor | F8: Moderate | G8: Major | H8: Critical
D9: IMPACT
D10: level | E10: low | F10: medium | G10: high | H10: very high
A12: Element | B12: Description Guidance
A13: Objective | B13: Describes the objective for the area of business that is being risk assessed and risk managed.
A14: Risk Description | B14: Describes the barriers/events/circumstances that might prevent the objective from being achieved and include the cause and consequence of the risk that is identified.
A15: Inherent Risk | B15: Scores the risk to the achievement of the objective before any mitigating (control) action has been taken to manage it. Impact - An assessment of the consequences of the risk materialising (scored 1-5) Likelihood - An assessment of the probability of a risk materialising (scored 1-5) Overall Score - Impact x LikelihoodRAG status: Very High (20-25), High (13-19), Moderate (5-12), Low (1-4).
A16: Control / Mitigation | B16: Records the mitigation response to, and control measures over, the risk. Only actual measures in place can be used in determining the residual score.
A17: Residual Risk | B17: Scores the risk still remaining to the achievement of the objective after having taken into account the control measures in place. Should be lower than the Inherent Risk score: mitigating actions should not increase the risk to achieving the objective. Impact An assessment of the consequences of the risk materialising (scored 1-5) LikelihoodAn assessment of the probability of a risk materialising (scored 1-5) Overall Score Impact x Likelihood RAG status: Very High (20-25), High (13-19), Moderate (5-12), Low (1-4).
A18: Further Actions Needed | B18: Records further planned controls or mitigating actions still needed to maintain or reduce the risk to an acceptable level. Actions are needed if the Residual Risk remains above the Target Risk score, if being used (see below).
A19: Owner / Action Date | B19: Records the officer tasked with implementing the further action and the date agreed for implementation of that action.
A20: Date Reviewed | B20: Time stamp of the date reviewed.
A22: Risk Mitigation
A23: Decide not to take a risk – AVOID | B23: A decision is made not to take a risk.
A24: Decide to accept the risk - ACCEPT | B24: A decision is taken to accept the risk.
A25: Decide to transfer the risk – SHARE | B25: A decision is taken to transfer the risk (insurance, outsourcing, spreading/sharing etc).
A26: Decide to reduce the risk - REDUCE | B26: A decision is taken to mitigate or reduce the risk, through controls.
A28: Optional Columns
A29: Proximity | B29: Reflects the possible timing of the risk materialising i.e. is the threat / opportunity stronger at a particular time using the scale: Black - Short Term (0-3 Months) Grey - Medium Term (4-12 Months) Blue - Long Term (13 months+)
A30: Target Risk | B30: Records the level of risk which can be tolerated for that business objective and risk. If the Target Risk is lower than the Residual Risk then there must be further actions identified to bring the risk down. If the Residual Risk and Target Risk agree then the “Further Actions” column can read “none”.
A32: Further guidance - Risk Sources
A33: Risk may come from changes or events that are: | C33: Or from factors related to:
A34: External Factors | C34: Internal Factors
A35: · Technological | C35: · Capacity
A36: · Environmental | C36: · Capability
A37: · Economic | C37: · Affordability
A38: · Political | C38: · Priority setting
A39: · Legislative | C39: · Lessons learnt
A40: · Regulatory
A41: · Cultural

Sheet Risks
A1: Date updated: | D1: Inherent Risk | H1: Residual Risk
A2: Risk ID | B2: Objective Business Objective(s) | C2: Risk Description Barrier(s) to delivery / achievement of the objective | D2: Impact | E2: Likely | F2: Overall score | G2: Management Actions Agreed or Taken Mitigations actually in place to address risk (avoid, reduce, accept, share) | H2: Impact | I2: Likely | J2: Overall score | K2: Target / Tolerance | L2: Further Actions Needed Further mitigations required (avoid, reduce, accept, share) | M2: Action Owner/Date SRO and officer tasked with taking the action and target date for action | N2: Proximity | O2: Date Updated | P2: Date Review by SRO | Q2: Comments including reason for change of risk rating
A3: R.001 | B3: Illustrative example only: Completion of the review project | C3: Lack of resilience in staff numbers | D3: 1 | E3: 3 | F3: =IF(E3*D3=0,"",D3*E3) -> 3 | G3: Reduce: PM to keep others up to date via highlight reports and meetings. Timetable to be used as record of work done so far and as list of tasks to complete next. | H3: 1 | I3: 2 | J3: =IF(I3*H3=0,"",H3*I3) -> 2 | K3: =SUM(D3:E3) -> 4 | L3: Accept | M3: Project Manager | N3: long term 13+months
A4: R.002 | F4: =IF(E4*D4=0,"",D4*E4) | J4: =IF(I4*H4=0,"",H4*I4)
A5: R.003 | F5: =IF(E5*D5=0,"",D5*E5) | J5: =IF(I5*H5=0,"",H5*I5)
A6: R.004 | F6: =IF(E6*D6=0,"",D6*E6) | J6: =IF(I6*H6=0,"",H6*I6)
A7: R.005 | F7: =IF(E7*D7=0,"",D7*E7) | J7: =IF(I7*H7=0,"",H7*I7)
F8: =IF(E8*D8=0,"",D8*E8) | J8: =IF(I8*H8=0,"",H8*I8)
F9: =IF(E9*D9=0,"",D9*E9) | J9: =IF(I9*H9=0,"",H9*I9)
F10: =IF(E10*D10=0,"",D10*E10) | J10: =IF(I10*H10=0,"",H10*I10)
F11: =IF(E11*D11=0,"",D11*E11) | J11: =IF(I11*H11=0,"",H11*I11)
F12: =IF(E12*D12=0,"",D12*E12) | J12: =IF(I12*H12=0,"",H12*I12)
F13: =IF(E13*D13=0,"",D13*E13) | J13: =IF(I13*H13=0,"",H13*I13)
F14: =IF(E14*D14=0,"",D14*E14) | J14: =IF(I14*H14=0,"",H14*I14)
F15: =IF(E15*D15=0,"",D15*E15) | J15: =IF(I15*H15=0,"",H15*I15)
F16: =IF(E16*D16=0,"",D16*E16) | J16: =IF(I16*H16=0,"",H16*I16)
F17: =IF(E17*D17=0,"",D17*E17) | J17: =IF(I17*H17=0,"",H17*I17)
F18: =IF(E18*D18=0,"",D18*E18) | J18: =IF(I18*H18=0,"",H18*I18)
F19: =IF(E19*D19=0,"",D19*E19) | J19: =IF(I19*H19=0,"",H19*I19)
... F29: =IF(E29*D29=0,"",D29*E29) | J29: =IF(I29*H29=0,"",H29*I29)
J30: =IF(I30*H30=0,"",H30*I30)
J31: =IF(I31*H31=0,"",H31*I31)

Sheet Assumptions
A1: Date updated: | C1: Assumptions
A2: Assumption ID | B2: Assumption Area e.g. finance, schedual, dependency | C2: Assumption Status Open/Closed | D2: Assumption Description | E2: Rating | F2: Owner | G2: Mitigating Actions | H2: Associated Risk | I2: Associated Action
A3: AS.001 | E3: low | H3: link to risk register | I3: Link to action
A4: AS.002 | E4: medium
A5: AS.003
A6: AS.004
A7: AS.005
A8: AS.006
A9: AS.007
A10: AS.008
A11: AS.009
A12: AS.010
A13: AS.011
A14: AS.012
A15: AS.013
A16: AS.014
... A26: AS.024

Sheet Issues 
A1: Date updated: | C1: Issues Log
A2: Issue ID | B2: Source of information - eg. email, meeting, conversation/verbal instruction | C2: Date Raised | D2: Status open/close | E2: Description Including impact | F2: Owner | G2: Rating (Example) | H2: Action fix, mitigation or escalation | I2: Date Closed | J2: Resulting risk
A3: I.001 | E3: Illustrative example only: Insufficient focus on ongoing quality assurance of providers | F3: JCH | G3: very high | H3: Add to Information pack, specification as to assurance and escalation process/consequences and contract. Consider remedies | M3: very high
A4: I.002
A5: I.003 | M5: Low
A6: I.004
A7: I.005 | M7: Risk
A8: I.006 | M8: Issue
A9: I.007
A10: I.008 | M10: Open
A11: I.009 | M11: Complete
A12: I.010
A13: I.011
A14: I.012
A15: I.013
A16: I.014
A17: I.015
A18: I.016
A19: I.017
A20: I.018
A21: I.019
A22: I.020
A23: I.021
... A33: I.031

Sheet Decision Log
A1: Date updated: | C1: Decision Log
A2: Ref | B2: Source of information e.g. email, meeting note, including who requested the decision | C2: Date Raised | D2: Status open or closed | E2: Due Date | F2: Description | G2: Decision Maker Individual or group | H2: Decision / Answer | I2: Decision Date
A3: D.001 | B3: Example only: Directorate Meeting | C3: 45296 | D3: closed | E3: 45342 | F3: Full communications plan not needed for this project - -Light version only | G3: SRO | H3: Agreed | I3: 45341
A4: D.002 | B4: Example only: Supplier meeting | C4: 45353 | D4: open | E4: 45372 | F4: Methology the change KPI measure - no material difference | G4: Project Board
A5: D.003
A6: D.004
A7: D.005
A8: D.006 | M8: Risk
A9: D.007
A10: D.008
A11: D.009 | M11: Open
A12: D.010 | M12: Complete
A13: D.011
A14: D.012
A15: D.013
A16: D.014
A17: D.015
A18: D.016
A19: D.017
A20: D.018
A21: D.019
A22: D.020
A23: D.021
A24: D.022
... A31: D.029

Sheet Actions
A1: Date updated: | C1: Action Log
A2: Action ID | B2: Action | C2: Start Date | D2: End Date | E2: Owner | F2: Risk | G2: Status | H2: Notes
A3: ACT.001 | B3: Illustrative example only PM to keep updates via highlight reports; timetable to be used as reminder tool | C3: date | E3: Contract Manager | F3: link to risk | G3: delayed
A4: ACT.002 | G4: on track
A5: ACT.003
A6: ACT.004
A7: ACT.005
A8: ACT.006
A9: ACT.007
A10: ACT.008
A11: ACT.009
A12: ACT.010
A13: ACT.011

Sheet DropDown Lists
A1: Risk ratings
A3: 1
A4: 2
A5: 3
A6: 4
A7: 5
