Workbook
Name Contract_Measures: '2 - Monitoring'!$B$16:$B$202
Name contract_name: '1 - Setup'!$E$9
Name contract_ref: '1 - Setup'!$E$10
Name contract_supplier: '1 - Setup'!$E$11
Name contract_value: '1 - Setup'!$E$12
Name reporting_frequency: '1 - Setup'!$H$9
Name reporting_start: '1 - Setup'!$H$10
Name reporting_type: '1 - Setup'!$H$11
Name Slicer_RAG: #N/A
Name Slicer_Theme: #N/A

Sheet Instructions
B2: Instructions
B3: Instructions for using this toolkit
B6: Description | H6: Key
C9: This spreadsheet allows you to monitor the social value being delivered by a contract. It should be used from the start of your contract management. It can be completed by the contract manager, or you may ask the supplier to fill it in as part of their regular reporting. Used in conjuction with the organisational social value spreadsheet it will help you to quanitfy the social value being delivered through your third party spend. | K9: This workbook is protected and there are a number of cells you can enter / edit values. They will follow the key provided.
I10: Input Cell
I12: name > | K12: Press the "Name" or ">" re "<" to navigate between the different sections and the information page.
I13: navigation
B16: Initial setup of Social Value framework | E16: 0 - Measures | F16: > | H16: Workflow
C19: Before rolling out the contract reporting template it will need to be customised to meet the needs of your organisation.
I20: 0 - Measures | K20: Setup your measures (standard / non-standard)
C21: You will need to complete the table with any standard social value measures agreed for the Council. A description of what to enter under each heading is provided in the table below
C24: Measure | D24: The standard contract measure. For example “Total amount (£) spent with VCSEs within your supply chain” | I24: 1 - Setup | K24: Setup your contract and reporting cycle
I25: |
C26: Units | D26: The unit of measurement. For example “number of jobs” | I26: 2 - Monitoring | K26: Monitor the contracts progress
C27: Social Value proxy | D27: If you are using a social value proxy enter the financial equivalent that one unit of the thing to be delivered is worth in £ | I27: |
I28: 3 - Dashboard | K28: Visualisation and summary of contract data
C29: Theme | D29: Enter the social value theme this measure addresses e.g. “Economic development” | I29: |
C30: Outcome | D30: Enter the outcome being sought through the contract measure. For example “More under 25s in the area in work” | I30: 4 - Output | K30: Create a useable output for other BI software and Organisation file
C32: Reference | D32: Enter the standard reference / ID for the measure to help you track it.
C33: Standard Council Measure? | D33: Is the measure a standard Council measure or is it a non-standard measure related to a particular contract or sub-group.
I34: Processing | K34: Processing of information input to output
C36: Yes | D36: Standard | I36: Ref | K36: Lookups and references
C37: No | D37: Non-Standard (will be highlighted and needs to be identified)
C39: For some contracts you may be using “non-standard” social value measures, i.e. social value measures that are not part of the councils standard social value reporting measures.
C42: When the new contract monitoring spreadsheet set-up (see Step 1) details of any non-standard measures need to be added to the standard list in “0 - Measures”.
C45: Once you have added in the standard measures into the worksheet you may want to hide the sheet so that it is not edited accidentally while the workbook is being used for reporting. The whole worksheet can now be saved as a template for other contracts. Ideally you would have one file for each contract.
B51: Step 1 | D51: =K24 -> Setup your contract and reporting cycle | E51: 1 - Setup | F51: > | H51: Legal
C54: For each new contract where you will be monitoring social value you will need to set up a spreadsheet for the contract. We suggest agreeing a naming convention for these spreadsheets such as YYYY-MM [Supplier Name] [Contract Name] and saving them in a central shared folder. | I54: Disclaimer
I55: This report has been produced and published in good faith by Local Partnerships. Save as to any specific contractual agreement that states otherwise, Local Partnerships shall not incur any liability for any action or omission arising out of any reliance being placed on the report (including any information it contains) by any organisation or other person. Any organisation or other person in receipt of this report should take their own legal, financial and/or other relevant professional advice when considering what action (if any) to take in respect of any associated initiative, proposal or other arrangement, or before placing any reliance on the report (including any information it contains).
C58: Define your contract details using the input cells.
C60: Contract Name | D60: Contract name goes here…
C61: Contract Reference | D61: Reference …
C62: Contract Supplier | D62: Contract supplier name goes here …
C63: Contract Value | D63: 10000
C65: The contract information you define here will be used in the rest of the worksheet. If you need to change any of the details, you would need to change them here.
C68: Next is to define the reporting cycle you would like to monitor and update the contract by. This can be done by selecting the reporting frequency / defining the start date / indicate the calendar type.
E70: Format:
C71: Reporting frequency | D71: Quarter | E71: Selection
C72: Reporting Start Date | D72: 45455 | E72: dd/mm/yyyy
C73: Finacial / Regular year | D73: Regular | E73: Selection
I75: Copyright
C76: Monthly | D76: Selecting either "Regular" / "Financial" will have no impact on the dates. | I76: © Local Partnerships LLP 2025
C77: Quarterly | D77: Selecting "Finacial" will start and end the year in March / April. Selecting "Regular" will start and end the year in January
C78: Yearly
C80: The reporting cycle should be determined as part of the Council’s approach to social value.
C82: For the "Organisation" reporting sheet to work this needs to be standard for all contracts you are monitoring. If you want to report on contracts at different frequencies you must define those frequencies in this section.
C85: You may want to create a central shared file where all social value reporting is stored
E86: Tip:
C87: Social Value Measures | D87: No. of local direct employees (FTE) hired or retained (for re-tendered contracts) on contract for one year or the whole duration of the contract, whichever is shorter | E87: You can start typing the defined measure and it will show in the list
C89: Enter your social value measures by selecting them from the dropdown. The items in the list will be dynamically populated to show all the measures you have defined in the "0 - Measures" tab. If you are using non-standard measures you will need to add them to the "0-Measures" tab as explained above.
C93: Total Supplier Commitment (Units) | D93: The number of units (e.g. jobs) that the supplier has committed to deliver.
C95: Milestones / Comments | D95: Note any key delivery milestones or information relevant to the ongoing management of social value for the measure.
B99: Step 2 | D99: =K26 -> Monitor the contracts progress | E99: 2 - Monitoring | F99: >
C102: Once the template has been set-up with the contact details you can use it to start reporting on social value. This may be done by the contract manager, or you may require the supplier to complete the reporting.
C105: The data from the contract set-up will have autocompleted into the sheet. The units that have been delivered in each period that has happened should be entered into the relevant columns.
C113: A RAG rating for current performance against the measure should also be entered
C115: RAG status
C116: Green | D116: Use the drop down to select the RAG rating you want to apply.
C118: The colour will change in the cell to help visually determine the different RAG status of each previously defined measure.
C121: Suggested RAG definitions are provided below, but these can be adapted to be consistent with your standard organisational reporting.
C124: Red | D124: Targets not being met
C125: Amber | D125: At risk of non-delivery
C126: Green | D126: On track
C127: Blue | D127: Complete
B130: Step 3 | D130: =K28 -> Visualisation and summary of contract data | E130: 3 - Dashboard | F130: >
C133: The dashboard displays your current position on social value for the contract. When you enter new data the dashboard will automatically reflect those changes.
D136: Filters and Selections
D137: Each of the filters can be toggled on/off. To do this hold Ctrl+click on the option from the list provided
C147: The dashboard contains aggregated information on a number of key aspects.
C149: Proxy Social Value Delivered (£) | D149: Comparison of Proxy Social Value Delivered (£) over your defined reporting cyles. Comparing the contract's "Target" and the "Delivered" amount.
C151: Proxy Social Value Delivered (£) by Theme | D151: Breakdown of the total Proxy Social Value Delivered (£) by the themes monitored in the contract. Filters are used to compare different combinations.
C154: RAG status of contract social value measures | D154: Breakdown of the different RAG status.
B158: Step 4 (optional) | D158: =K30 -> Create a useable output for other BI software and Organisation file | E158: 4 - Output | F158: >
C161: Data that has been generated from the toolkit is output here in a flat file format. This can be used in the "Social Value - Organisation" sheet or exported to use in your council's own BI software.

Sheet 0 - Measures
B2: Social Value Measures
B3: Setup of the Council's Standard Social Value Measures
B6: Description
B9: Enter your Council's standard social value measures to enable this toolkit to be used as a template for different contracts in your organisation.
B10: See instructions on how to add non-standard measures
B12: Measure | C12: Units | D12: Social Value proxy | E12: Theme | F12: Outcome | G12: Reference | H12: Standard Council Measure?

Sheet 1 - Setup
B2: Contract Setup
B3: Setup of the contract that you are monitoring
B6: Description | D6: Contract Information
B9: Enter the contract details in rows 9 – 14. | D9: Contract Name | G9: Reporting frequency
D10: Contract Reference | G10: Reporting Start Date
B11: Enter the social value measures for your contract in column B. If you are using any measures that are not standard for the council you will need to enter these in the “0 – Measures” tab. For each measure provide the total contractual commitment from the supplier in column E, and enter any relevant milestones or comments relating to the measure in column K. | D11: Contract Supplier | G11: Finacial / Regular year
D12: Contract Value
B16: Social Value Measures | C16: Council standard measure? | D16: Reporting Frequency | E16: Total Supplier Commitment (Units) | F16: Units | G16: Social value proxy £ | H16: Theme | I16: Outcome | J16: Reference | K16: Milestones / Comments | L16: Social value proxy £ committed
C17: =_xlfn.XLOOKUP(contract[[#This Row],[Social Value Measures]],measures[Measure],measures[Standard Council Measure?],"") -> 0 | D17: =IF(contract[[#This Row],[Council standard measure?]]<>"",reporting_frequency,"") -> 0 | F17: =_xlfn.XLOOKUP(contract[[#This Row],[Social Value Measures]],measures[Measure],measures[Units],"") -> 0 | G17: =_xlfn.XLOOKUP(contract[[#This Row],[Social Value Measures]],measures[Measure],measures[Social Value proxy],"") -> 0 | H17: =_xlfn.XLOOKUP(contract[[#This Row],[Social Value Measures]],measures[Measure],measures[Theme],"") -> 0 | I17: =_xlfn.XLOOKUP(contract[[#This Row],[Social Value Measures]],measures[Measure],measures[Outcome],"") -> 0 | J17: =_xlfn.XLOOKUP(contract[[#This Row],[Social Value Measures]],measures[Measure],measures[Reference],"") -> 0 | L17: =IFERROR(contract[[#This Row],[Social value proxy £]]*contract[[#This Row],[Total Supplier Commitment (Units)]],"") -> 0
C18: =_xlfn.XLOOKUP(contract[[#This Row],[Social Value Measures]],measures[Measure],measures[Standard Council Measure?],"") -> 0 | D18: =IF(contract[[#This Row],[Council standard measure?]]<>"",reporting_frequency,"") -> 0 | F18: =_xlfn.XLOOKUP(contract[[#This Row],[Social Value Measures]],measures[Measure],measures[Units],"") -> 0 | G18: =_xlfn.XLOOKUP(contract[[#This Row],[Social Value Measures]],measures[Measure],measures[Social Value proxy],"") -> 0 | H18: =_xlfn.XLOOKUP(contract[[#This Row],[Social Value Measures]],measures[Measure],measures[Theme],"") -> 0 | I18: =_xlfn.XLOOKUP(contract[[#This Row],[Social Value Measures]],measures[Measure],measures[Outcome],"") -> 0 | J18: =_xlfn.XLOOKUP(contract[[#This Row],[Social Value Measures]],measures[Measure],measures[Reference],"") -> 0 | L18: =IFERROR(contract[[#This Row],[Social value proxy £]]*contract[[#This Row],[Total Supplier Commitment (Units)]],"") -> 0
C19: =_xlfn.XLOOKUP(contract[[#This Row],[Social Value Measures]],measures[Measure],measures[Standard Council Measure?],"") -> 0 | D19: =IF(contract[[#This Row],[Council standard measure?]]<>"",reporting_frequency,"") -> 0 | F19: =_xlfn.XLOOKUP(contract[[#This Row],[Social Value Measures]],measures[Measure],measures[Units],"") -> 0 | G19: =_xlfn.XLOOKUP(contract[[#This Row],[Social Value Measures]],measures[Measure],measures[Social Value proxy],"") -> 0 | H19: =_xlfn.XLOOKUP(contract[[#This Row],[Social Value Measures]],measures[Measure],measures[Theme],"") -> 0 | I19: =_xlfn.XLOOKUP(contract[[#This Row],[Social Value Measures]],measures[Measure],measures[Outcome],"") -> 0 | J19: =_xlfn.XLOOKUP(contract[[#This Row],[Social Value Measures]],measures[Measure],measures[Reference],"") -> 0 | L19: =IFERROR(contract[[#This Row],[Social value proxy £]]*contract[[#This Row],[Total Supplier Commitment (Units)]],"") -> 0
C20: =_xlfn.XLOOKUP(contract[[#This Row],[Social Value Measures]],measures[Measure],measures[Standard Council Measure?],"") -> 0 | D20: =IF(contract[[#This Row],[Council standard measure?]]<>"",reporting_frequency,"") -> 0 | F20: =_xlfn.XLOOKUP(contract[[#This Row],[Social Value Measures]],measures[Measure],measures[Units],"") -> 0 | G20: =_xlfn.XLOOKUP(contract[[#This Row],[Social Value Measures]],measures[Measure],measures[Social Value proxy],"") -> 0 | H20: =_xlfn.XLOOKUP(contract[[#This Row],[Social Value Measures]],measures[Measure],measures[Theme],"") -> 0 | I20: =_xlfn.XLOOKUP(contract[[#This Row],[Social Value Measures]],measures[Measure],measures[Outcome],"") -> 0 | J20: =_xlfn.XLOOKUP(contract[[#This Row],[Social Value Measures]],measures[Measure],measures[Reference],"") -> 0 | L20: =IFERROR(contract[[#This Row],[Social value proxy £]]*contract[[#This Row],[Total Supplier Commitment (Units)]],"") -> 0
C21: =_xlfn.XLOOKUP(contract[[#This Row],[Social Value Measures]],measures[Measure],measures[Standard Council Measure?],"") -> 0 | D21: =IF(contract[[#This Row],[Council standard measure?]]<>"",reporting_frequency,"") -> 0 | F21: =_xlfn.XLOOKUP(contract[[#This Row],[Social Value Measures]],measures[Measure],measures[Units],"") -> 0 | G21: =_xlfn.XLOOKUP(contract[[#This Row],[Social Value Measures]],measures[Measure],measures[Social Value proxy],"") -> 0 | H21: =_xlfn.XLOOKUP(contract[[#This Row],[Social Value Measures]],measures[Measure],measures[Theme],"") -> 0 | I21: =_xlfn.XLOOKUP(contract[[#This Row],[Social Value Measures]],measures[Measure],measures[Outcome],"") -> 0 | J21: =_xlfn.XLOOKUP(contract[[#This Row],[Social Value Measures]],measures[Measure],measures[Reference],"") -> 0 | L21: =IFERROR(contract[[#This Row],[Social value proxy £]]*contract[[#This Row],[Total Supplier Commitment (Units)]],"") -> 0
C22: =_xlfn.XLOOKUP(contract[[#This Row],[Social Value Measures]],measures[Measure],measures[Standard Council Measure?],"") -> 0 | D22: =IF(contract[[#This Row],[Council standard measure?]]<>"",reporting_frequency,"") -> 0 | F22: =_xlfn.XLOOKUP(contract[[#This Row],[Social Value Measures]],measures[Measure],measures[Units],"") -> 0 | G22: =_xlfn.XLOOKUP(contract[[#This Row],[Social Value Measures]],measures[Measure],measures[Social Value proxy],"") -> 0 | H22: =_xlfn.XLOOKUP(contract[[#This Row],[Social Value Measures]],measures[Measure],measures[Theme],"") -> 0 | I22: =_xlfn.XLOOKUP(contract[[#This Row],[Social Value Measures]],measures[Measure],measures[Outcome],"") -> 0 | J22: =_xlfn.XLOOKUP(contract[[#This Row],[Social Value Measures]],measures[Measure],measures[Reference],"") -> 0 | L22: =IFERROR(contract[[#This Row],[Social value proxy £]]*contract[[#This Row],[Total Supplier Commitment (Units)]],"") -> 0
C23: =_xlfn.XLOOKUP(contract[[#This Row],[Social Value Measures]],measures[Measure],measures[Standard Council Measure?],"") -> 0 | D23: =IF(contract[[#This Row],[Council standard measure?]]<>"",reporting_frequency,"") -> 0 | F23: =_xlfn.XLOOKUP(contract[[#This Row],[Social Value Measures]],measures[Measure],measures[Units],"") -> 0 | G23: =_xlfn.XLOOKUP(contract[[#This Row],[Social Value Measures]],measures[Measure],measures[Social Value proxy],"") -> 0 | H23: =_xlfn.XLOOKUP(contract[[#This Row],[Social Value Measures]],measures[Measure],measures[Theme],"") -> 0 | I23: =_xlfn.XLOOKUP(contract[[#This Row],[Social Value Measures]],measures[Measure],measures[Outcome],"") -> 0 | J23: =_xlfn.XLOOKUP(contract[[#This Row],[Social Value Measures]],measures[Measure],measures[Reference],"") -> 0 | L23: =IFERROR(contract[[#This Row],[Social value proxy £]]*contract[[#This Row],[Total Supplier Commitment (Units)]],"") -> 0
C24: =_xlfn.XLOOKUP(contract[[#This Row],[Social Value Measures]],measures[Measure],measures[Standard Council Measure?],"") -> 0 | D24: =IF(contract[[#This Row],[Council standard measure?]]<>"",reporting_frequency,"") -> 0 | F24: =_xlfn.XLOOKUP(contract[[#This Row],[Social Value Measures]],measures[Measure],measures[Units],"") -> 0 | G24: =_xlfn.XLOOKUP(contract[[#This Row],[Social Value Measures]],measures[Measure],measures[Social Value proxy],"") -> 0 | H24: =_xlfn.XLOOKUP(contract[[#This Row],[Social Value Measures]],measures[Measure],measures[Theme],"") -> 0 | I24: =_xlfn.XLOOKUP(contract[[#This Row],[Social Value Measures]],measures[Measure],measures[Outcome],"") -> 0 | J24: =_xlfn.XLOOKUP(contract[[#This Row],[Social Value Measures]],measures[Measure],measures[Reference],"") -> 0 | L24: =IFERROR(contract[[#This Row],[Social value proxy £]]*contract[[#This Row],[Total Supplier Commitment (Units)]],"") -> 0
C25: =_xlfn.XLOOKUP(contract[[#This Row],[Social Value Measures]],measures[Measure],measures[Standard Council Measure?],"") -> 0 | D25: =IF(contract[[#This Row],[Council standard measure?]]<>"",reporting_frequency,"") -> 0 | F25: =_xlfn.XLOOKUP(contract[[#This Row],[Social Value Measures]],measures[Measure],measures[Units],"") -> 0 | G25: =_xlfn.XLOOKUP(contract[[#This Row],[Social Value Measures]],measures[Measure],measures[Social Value proxy],"") -> 0 | H25: =_xlfn.XLOOKUP(contract[[#This Row],[Social Value Measures]],measures[Measure],measures[Theme],"") -> 0 | I25: =_xlfn.XLOOKUP(contract[[#This Row],[Social Value Measures]],measures[Measure],measures[Outcome],"") -> 0 | J25: =_xlfn.XLOOKUP(contract[[#This Row],[Social Value Measures]],measures[Measure],measures[Reference],"") -> 0 | L25: =IFERROR(contract[[#This Row],[Social value proxy £]]*contract[[#This Row],[Total Supplier Commitment (Units)]],"") -> 0
C26: =_xlfn.XLOOKUP(contract[[#This Row],[Social Value Measures]],measures[Measure],measures[Standard Council Measure?],"") -> 0 | D26: =IF(contract[[#This Row],[Council standard measure?]]<>"",reporting_frequency,"") -> 0 | F26: =_xlfn.XLOOKUP(contract[[#This Row],[Social Value Measures]],measures[Measure],measures[Units],"") -> 0 | G26: =_xlfn.XLOOKUP(contract[[#This Row],[Social Value Measures]],measures[Measure],measures[Social Value proxy],"") -> 0 | H26: =_xlfn.XLOOKUP(contract[[#This Row],[Social Value Measures]],measures[Measure],measures[Theme],"") -> 0 | I26: =_xlfn.XLOOKUP(contract[[#This Row],[Social Value Measures]],measures[Measure],measures[Outcome],"") -> 0 | J26: =_xlfn.XLOOKUP(contract[[#This Row],[Social Value Measures]],measures[Measure],measures[Reference],"") -> 0 | L26: =IFERROR(contract[[#This Row],[Social value proxy £]]*contract[[#This Row],[Total Supplier Commitment (Units)]],"") -> 0
C27: =_xlfn.XLOOKUP(contract[[#This Row],[Social Value Measures]],measures[Measure],measures[Standard Council Measure?],"") -> 0 | D27: =IF(contract[[#This Row],[Council standard measure?]]<>"",reporting_frequency,"") -> 0 | F27: =_xlfn.XLOOKUP(contract[[#This Row],[Social Value Measures]],measures[Measure],measures[Units],"") -> 0 | G27: =_xlfn.XLOOKUP(contract[[#This Row],[Social Value Measures]],measures[Measure],measures[Social Value proxy],"") -> 0 | H27: =_xlfn.XLOOKUP(contract[[#This Row],[Social Value Measures]],measures[Measure],measures[Theme],"") -> 0 | I27: =_xlfn.XLOOKUP(contract[[#This Row],[Social Value Measures]],measures[Measure],measures[Outcome],"") -> 0 | J27: =_xlfn.XLOOKUP(contract[[#This Row],[Social Value Measures]],measures[Measure],measures[Reference],"") -> 0 | L27: =IFERROR(contract[[#This Row],[Social value proxy £]]*contract[[#This Row],[Total Supplier Commitment (Units)]],"") -> 0
C28: =_xlfn.XLOOKUP(contract[[#This Row],[Social Value Measures]],measures[Measure],measures[Standard Council Measure?],"") -> 0 | D28: =IF(contract[[#This Row],[Council standard measure?]]<>"",reporting_frequency,"") -> 0 | F28: =_xlfn.XLOOKUP(contract[[#This Row],[Social Value Measures]],measures[Measure],measures[Units],"") -> 0 | G28: =_xlfn.XLOOKUP(contract[[#This Row],[Social Value Measures]],measures[Measure],measures[Social Value proxy],"") -> 0 | H28: =_xlfn.XLOOKUP(contract[[#This Row],[Social Value Measures]],measures[Measure],measures[Theme],"") -> 0 | I28: =_xlfn.XLOOKUP(contract[[#This Row],[Social Value Measures]],measures[Measure],measures[Outcome],"") -> 0 | J28: =_xlfn.XLOOKUP(contract[[#This Row],[Social Value Measures]],measures[Measure],measures[Reference],"") -> 0 | L28: =IFERROR(contract[[#This Row],[Social value proxy £]]*contract[[#This Row],[Total Supplier Commitment (Units)]],"") -> 0
... C49: =_xlfn.XLOOKUP(contract[[#This Row],[Social Value Measures]],measures[Measure],measures[Standard Council Measure?],"") -> 0 | D49: =IF(contract[[#This Row],[Council standard measure?]]<>"",reporting_frequency,"") -> 0 | F49: =_xlfn.XLOOKUP(contract[[#This Row],[Social Value Measures]],measures[Measure],measures[Units],"") -> 0 | G49: =_xlfn.XLOOKUP(contract[[#This Row],[Social Value Measures]],measures[Measure],measures[Social Value proxy],"") -> 0 | H49: =_xlfn.XLOOKUP(contract[[#This Row],[Social Value Measures]],measures[Measure],measures[Theme],"") -> 0 | I49: =_xlfn.XLOOKUP(contract[[#This Row],[Social Value Measures]],measures[Measure],measures[Outcome],"") -> 0 | J49: =_xlfn.XLOOKUP(contract[[#This Row],[Social Value Measures]],measures[Measure],measures[Reference],"") -> 0 | L49: =IFERROR(contract[[#This Row],[Social value proxy £]]*contract[[#This Row],[Total Supplier Commitment (Units)]],"") -> 0

Sheet 2 - Monitoring
B2: Contract Monitoring
B3: Monitoring the contract
B6: Description | D6: Contract Information
B9: Use this tab to monitor the contracts social value performance. Enter the amount of units delivered for each reporting period in columns I – T. Based on the contract delivery of social value RAG rate the performance of each measure in column H. RAG definitions can be found in “Instructions”. | D9: Contract Name | E9: =IF(contract_name=0, "No Entry in Setup",contract_name) -> No Entry in Setup | G9: Reporting frequency | H9: =IF(reporting_frequency=0, "No Entry in Setup",reporting_frequency) -> No Entry in Setup
D10: Contract Reference | E10: =IF(contract_ref=0, "No Entry in Setup",contract_ref) -> No Entry in Setup | G10: Reporting Start Date | H10: =IF(reporting_start=0, "No Entry in Setup",reporting_start) -> No Entry in Setup
D11: Contract Supplier | E11: =IF(contract_supplier=0, "No Entry in Setup",contract_supplier) -> No Entry in Setup | G11: Finacial / Regular Year | H11: =IF(reporting_type=0, "No Entry in Setup",reporting_type) -> No Entry in Setup
D12: Contract Value | E12: =IF(contract_value=0, "No Entry in Setup",contract_value) -> No Entry in Setup | AN12: hidden | AO12: hidden
I14: Reporting period - Units delivered | AB14: Reporting period Value £
B15: Contract Measures | C15: Reporting Frequency | D15: Total supplier commitment | E15: Commitment delivered | F15: Proportion complete | G15: Social value delievered proxy £ | H15: RAG status | I15: {=IF(reporting_frequency="Month",TRANSPOSE(Ref!$N$9:$N$20),IF(reporting_frequency="Quarter",TRANSPOSE(Ref!$S$9:$S$20),TRANSPOSE(Ref!$T$9:$T$20)))} -> 1900 | J15: 1900 | K15: 1901 | L15: 1902 | M15: 1903 | N15: 1904 | O15: 1905 | P15: 1906 | Q15: 1907 | R15: 1908 | S15: 1909 | T15: 1910 | U15: Units | V15: Social value proxy | W15: Theme | X15: Outcome | Y15: Reference | Z15: Milestones / Comments | AA15: Social value committed proxy £ | AB15: =IF(SUM(AB$16:AB$500)>0,I$15,"") | AC15: =IF(SUM(AC$16:AC$500)>0,J$15,"") | AD15: =IF(SUM(AD$16:AD$500)>0,K$15,"") | AE15: =IF(SUM(AE$16:AE$500)>0,L$15,"") | AF15: =IF(SUM(AF$16:AF$500)>0,M$15,"") | AG15: =IF(SUM(AG$16:AG$500)>0,N$15,"") | AH15: =IF(SUM(AH$16:AH$500)>0,O$15,"") | AI15: =IF(SUM(AI$16:AI$500)>0,P$15,"") | ... AM15: =IF(SUM(AM$16:AM$500)>0,T$15,"") | AN15: Check
B16: {=_xlfn._xlws.FILTER(contract[Social Value Measures],(contract[Social Value Measures]<>"")*(contract[Social Value Measures]<>0))} -> #VALUE! | C16: =_xlfn.XLOOKUP($B16,contract[Social Value Measures],contract[Reporting Frequency]) -> #VALUE! | D16: =IF($B16="","",_xlfn.XLOOKUP($B16,contract[Social Value Measures],contract[Total Supplier Commitment (Units)],"")) -> #VALUE! | E16: =IF($B16="","",SUM($I16:$T16)) -> #VALUE! | F16: =IFERROR(E16/D16,"") | G16: =IFERROR(_xlfn.XLOOKUP($B16,contract[Social Value Measures],contract[Social value proxy £])*E16,"") | U16: =_xlfn.XLOOKUP($B16,contract[Social Value Measures],contract[Units]) -> #VALUE! | V16: =_xlfn.XLOOKUP($B16,contract[Social Value Measures],contract[Social value proxy £]) -> #VALUE! | W16: =_xlfn.XLOOKUP($B16,contract[Social Value Measures],contract[Theme]) -> #VALUE! | X16: =_xlfn.XLOOKUP($B16,contract[Social Value Measures],contract[Outcome]) -> #VALUE! | Y16: =_xlfn.XLOOKUP($B16,contract[Social Value Measures],contract[Reference]) -> #VALUE! | Z16: =IF($B16="","",_xlfn.XLOOKUP($B16,contract[Social Value Measures],contract[Milestones / Comments],"")) -> #VALUE! | AA16: =_xlfn.XLOOKUP($B16,contract[Social Value Measures],contract[Social value proxy £ committed]) -> #VALUE! | AB16: =IFERROR(I16*$V16,"") | AC16: =IFERROR(J16*$V16,"") | AD16: =IFERROR(K16*$V16,"") | AE16: =IFERROR(L16*$V16,"") | AF16: =IFERROR(M16*$V16,"") | AG16: =IFERROR(N16*$V16,"") | AH16: =IFERROR(O16*$V16,"") | AI16: =IFERROR(P16*$V16,"") | ... AM16: =IFERROR(T16*$V16,"") | AN16: =SUM(AB16:AM16) -> 0 | AO16: =AN16=G16 -> FALSE
C17: =_xlfn.XLOOKUP($B17,contract[Social Value Measures],contract[Reporting Frequency]) -> 0 | D17: =IF($B17="","",_xlfn.XLOOKUP($B17,contract[Social Value Measures],contract[Total Supplier Commitment (Units)],"")) | E17: =IF($B17="","",SUM($I17:$T17)) | F17: =IFERROR(E17/D17,"") | G17: =IFERROR(_xlfn.XLOOKUP($B17,contract[Social Value Measures],contract[Social value proxy £])*E17,"") | U17: =_xlfn.XLOOKUP($B17,contract[Social Value Measures],contract[Units]) -> 0 | V17: =_xlfn.XLOOKUP($B17,contract[Social Value Measures],contract[Social value proxy £]) -> 0 | W17: =_xlfn.XLOOKUP($B17,contract[Social Value Measures],contract[Theme]) -> 0 | X17: =_xlfn.XLOOKUP($B17,contract[Social Value Measures],contract[Outcome]) -> 0 | Y17: =_xlfn.XLOOKUP($B17,contract[Social Value Measures],contract[Reference]) -> 0 | Z17: =IF($B17="","",_xlfn.XLOOKUP($B17,contract[Social Value Measures],contract[Milestones / Comments],"")) | AA17: =_xlfn.XLOOKUP($B17,contract[Social Value Measures],contract[Social value proxy £ committed]) -> 0 | AB17: =IFERROR(I17*$V17,"") -> 0 | AC17: =IFERROR(J17*$V17,"") -> 0 | AD17: =IFERROR(K17*$V17,"") -> 0 | AE17: =IFERROR(L17*$V17,"") -> 0 | AF17: =IFERROR(M17*$V17,"") -> 0 | AG17: =IFERROR(N17*$V17,"") -> 0 | AH17: =IFERROR(O17*$V17,"") -> 0 | AI17: =IFERROR(P17*$V17,"") -> 0 | ... AM17: =IFERROR(T17*$V17,"") -> 0 | AN17: =SUM(AB17:AM17) -> 0 | AO17: =AN17=G17 -> FALSE
C18: =_xlfn.XLOOKUP($B18,contract[Social Value Measures],contract[Reporting Frequency]) -> 0 | D18: =IF($B18="","",_xlfn.XLOOKUP($B18,contract[Social Value Measures],contract[Total Supplier Commitment (Units)],"")) | E18: =IF($B18="","",SUM($I18:$T18)) | F18: =IFERROR(E18/D18,"") | G18: =IFERROR(_xlfn.XLOOKUP($B18,contract[Social Value Measures],contract[Social value proxy £])*E18,"") | U18: =_xlfn.XLOOKUP($B18,contract[Social Value Measures],contract[Units]) -> 0 | V18: =_xlfn.XLOOKUP($B18,contract[Social Value Measures],contract[Social value proxy £]) -> 0 | W18: =_xlfn.XLOOKUP($B18,contract[Social Value Measures],contract[Theme]) -> 0 | X18: =_xlfn.XLOOKUP($B18,contract[Social Value Measures],contract[Outcome]) -> 0 | Y18: =_xlfn.XLOOKUP($B18,contract[Social Value Measures],contract[Reference]) -> 0 | Z18: =IF($B18="","",_xlfn.XLOOKUP($B18,contract[Social Value Measures],contract[Milestones / Comments],"")) | AA18: =_xlfn.XLOOKUP($B18,contract[Social Value Measures],contract[Social value proxy £ committed]) -> 0 | AB18: =IFERROR(I18*$V18,"") -> 0 | AC18: =IFERROR(J18*$V18,"") -> 0 | AD18: =IFERROR(K18*$V18,"") -> 0 | AE18: =IFERROR(L18*$V18,"") -> 0 | AF18: =IFERROR(M18*$V18,"") -> 0 | AG18: =IFERROR(N18*$V18,"") -> 0 | AH18: =IFERROR(O18*$V18,"") -> 0 | AI18: =IFERROR(P18*$V18,"") -> 0 | ... AM18: =IFERROR(T18*$V18,"") -> 0 | AN18: =SUM(AB18:AM18) -> 0 | AO18: =AN18=G18 -> FALSE
C19: =_xlfn.XLOOKUP($B19,contract[Social Value Measures],contract[Reporting Frequency]) -> 0 | D19: =IF($B19="","",_xlfn.XLOOKUP($B19,contract[Social Value Measures],contract[Total Supplier Commitment (Units)],"")) | E19: =IF($B19="","",SUM($I19:$T19)) | F19: =IFERROR(E19/D19,"") | G19: =IFERROR(_xlfn.XLOOKUP($B19,contract[Social Value Measures],contract[Social value proxy £])*E19,"") | U19: =_xlfn.XLOOKUP($B19,contract[Social Value Measures],contract[Units]) -> 0 | V19: =_xlfn.XLOOKUP($B19,contract[Social Value Measures],contract[Social value proxy £]) -> 0 | W19: =_xlfn.XLOOKUP($B19,contract[Social Value Measures],contract[Theme]) -> 0 | X19: =_xlfn.XLOOKUP($B19,contract[Social Value Measures],contract[Outcome]) -> 0 | Y19: =_xlfn.XLOOKUP($B19,contract[Social Value Measures],contract[Reference]) -> 0 | Z19: =IF($B19="","",_xlfn.XLOOKUP($B19,contract[Social Value Measures],contract[Milestones / Comments],"")) | AA19: =_xlfn.XLOOKUP($B19,contract[Social Value Measures],contract[Social value proxy £ committed]) -> 0 | AB19: =IFERROR(I19*$V19,"") -> 0 | AC19: =IFERROR(J19*$V19,"") -> 0 | AD19: =IFERROR(K19*$V19,"") -> 0 | AE19: =IFERROR(L19*$V19,"") -> 0 | AF19: =IFERROR(M19*$V19,"") -> 0 | AG19: =IFERROR(N19*$V19,"") -> 0 | AH19: =IFERROR(O19*$V19,"") -> 0 | AI19: =IFERROR(P19*$V19,"") -> 0 | ... AM19: =IFERROR(T19*$V19,"") -> 0 | AN19: =SUM(AB19:AM19) -> 0 | AO19: =AN19=G19 -> FALSE
C20: =_xlfn.XLOOKUP($B20,contract[Social Value Measures],contract[Reporting Frequency]) -> 0 | D20: =IF($B20="","",_xlfn.XLOOKUP($B20,contract[Social Value Measures],contract[Total Supplier Commitment (Units)],"")) | E20: =IF($B20="","",SUM($I20:$T20)) | F20: =IFERROR(E20/D20,"") | G20: =IFERROR(_xlfn.XLOOKUP($B20,contract[Social Value Measures],contract[Social value proxy £])*E20,"") | U20: =_xlfn.XLOOKUP($B20,contract[Social Value Measures],contract[Units]) -> 0 | V20: =_xlfn.XLOOKUP($B20,contract[Social Value Measures],contract[Social value proxy £]) -> 0 | W20: =_xlfn.XLOOKUP($B20,contract[Social Value Measures],contract[Theme]) -> 0 | X20: =_xlfn.XLOOKUP($B20,contract[Social Value Measures],contract[Outcome]) -> 0 | Y20: =_xlfn.XLOOKUP($B20,contract[Social Value Measures],contract[Reference]) -> 0 | Z20: =IF($B20="","",_xlfn.XLOOKUP($B20,contract[Social Value Measures],contract[Milestones / Comments],"")) | AA20: =_xlfn.XLOOKUP($B20,contract[Social Value Measures],contract[Social value proxy £ committed]) -> 0 | AB20: =IFERROR(I20*$V20,"") -> 0 | AC20: =IFERROR(J20*$V20,"") -> 0 | AD20: =IFERROR(K20*$V20,"") -> 0 | AE20: =IFERROR(L20*$V20,"") -> 0 | AF20: =IFERROR(M20*$V20,"") -> 0 | AG20: =IFERROR(N20*$V20,"") -> 0 | AH20: =IFERROR(O20*$V20,"") -> 0 | AI20: =IFERROR(P20*$V20,"") -> 0 | ... AM20: =IFERROR(T20*$V20,"") -> 0 | AN20: =SUM(AB20:AM20) -> 0 | AO20: =AN20=G20 -> FALSE
C21: =_xlfn.XLOOKUP($B21,contract[Social Value Measures],contract[Reporting Frequency]) -> 0 | D21: =IF($B21="","",_xlfn.XLOOKUP($B21,contract[Social Value Measures],contract[Total Supplier Commitment (Units)],"")) | E21: =IF($B21="","",SUM($I21:$T21)) | F21: =IFERROR(E21/D21,"") | G21: =IFERROR(_xlfn.XLOOKUP($B21,contract[Social Value Measures],contract[Social value proxy £])*E21,"") | U21: =_xlfn.XLOOKUP($B21,contract[Social Value Measures],contract[Units]) -> 0 | V21: =_xlfn.XLOOKUP($B21,contract[Social Value Measures],contract[Social value proxy £]) -> 0 | W21: =_xlfn.XLOOKUP($B21,contract[Social Value Measures],contract[Theme]) -> 0 | X21: =_xlfn.XLOOKUP($B21,contract[Social Value Measures],contract[Outcome]) -> 0 | Y21: =_xlfn.XLOOKUP($B21,contract[Social Value Measures],contract[Reference]) -> 0 | Z21: =IF($B21="","",_xlfn.XLOOKUP($B21,contract[Social Value Measures],contract[Milestones / Comments],"")) | AA21: =_xlfn.XLOOKUP($B21,contract[Social Value Measures],contract[Social value proxy £ committed]) -> 0 | AB21: =IFERROR(I21*$V21,"") -> 0 | AC21: =IFERROR(J21*$V21,"") -> 0 | AD21: =IFERROR(K21*$V21,"") -> 0 | AE21: =IFERROR(L21*$V21,"") -> 0 | AF21: =IFERROR(M21*$V21,"") -> 0 | AG21: =IFERROR(N21*$V21,"") -> 0 | AH21: =IFERROR(O21*$V21,"") -> 0 | AI21: =IFERROR(P21*$V21,"") -> 0 | ... AM21: =IFERROR(T21*$V21,"") -> 0 | AN21: =SUM(AB21:AM21) -> 0 | AO21: =AN21=G21 -> FALSE
C22: =_xlfn.XLOOKUP($B22,contract[Social Value Measures],contract[Reporting Frequency]) -> 0 | D22: =IF($B22="","",_xlfn.XLOOKUP($B22,contract[Social Value Measures],contract[Total Supplier Commitment (Units)],"")) | E22: =IF($B22="","",SUM($I22:$T22)) | F22: =IFERROR(E22/D22,"") | G22: =IFERROR(_xlfn.XLOOKUP($B22,contract[Social Value Measures],contract[Social value proxy £])*E22,"") | U22: =_xlfn.XLOOKUP($B22,contract[Social Value Measures],contract[Units]) -> 0 | V22: =_xlfn.XLOOKUP($B22,contract[Social Value Measures],contract[Social value proxy £]) -> 0 | W22: =_xlfn.XLOOKUP($B22,contract[Social Value Measures],contract[Theme]) -> 0 | X22: =_xlfn.XLOOKUP($B22,contract[Social Value Measures],contract[Outcome]) -> 0 | Y22: =_xlfn.XLOOKUP($B22,contract[Social Value Measures],contract[Reference]) -> 0 | Z22: =IF($B22="","",_xlfn.XLOOKUP($B22,contract[Social Value Measures],contract[Milestones / Comments],"")) | AA22: =_xlfn.XLOOKUP($B22,contract[Social Value Measures],contract[Social value proxy £ committed]) -> 0 | AB22: =IFERROR(I22*$V22,"") -> 0 | AC22: =IFERROR(J22*$V22,"") -> 0 | AD22: =IFERROR(K22*$V22,"") -> 0 | AE22: =IFERROR(L22*$V22,"") -> 0 | AF22: =IFERROR(M22*$V22,"") -> 0 | AG22: =IFERROR(N22*$V22,"") -> 0 | AH22: =IFERROR(O22*$V22,"") -> 0 | AI22: =IFERROR(P22*$V22,"") -> 0 | ... AM22: =IFERROR(T22*$V22,"") -> 0 | AN22: =SUM(AB22:AM22) -> 0 | AO22: =AN22=G22 -> FALSE
C23: =_xlfn.XLOOKUP($B23,contract[Social Value Measures],contract[Reporting Frequency]) -> 0 | D23: =IF($B23="","",_xlfn.XLOOKUP($B23,contract[Social Value Measures],contract[Total Supplier Commitment (Units)],"")) | E23: =IF($B23="","",SUM($I23:$T23)) | F23: =IFERROR(E23/D23,"") | G23: =IFERROR(_xlfn.XLOOKUP($B23,contract[Social Value Measures],contract[Social value proxy £])*E23,"") | U23: =_xlfn.XLOOKUP($B23,contract[Social Value Measures],contract[Units]) -> 0 | V23: =_xlfn.XLOOKUP($B23,contract[Social Value Measures],contract[Social value proxy £]) -> 0 | W23: =_xlfn.XLOOKUP($B23,contract[Social Value Measures],contract[Theme]) -> 0 | X23: =_xlfn.XLOOKUP($B23,contract[Social Value Measures],contract[Outcome]) -> 0 | Y23: =_xlfn.XLOOKUP($B23,contract[Social Value Measures],contract[Reference]) -> 0 | Z23: =IF($B23="","",_xlfn.XLOOKUP($B23,contract[Social Value Measures],contract[Milestones / Comments],"")) | AA23: =_xlfn.XLOOKUP($B23,contract[Social Value Measures],contract[Social value proxy £ committed]) -> 0 | AB23: =IFERROR(I23*$V23,"") -> 0 | AC23: =IFERROR(J23*$V23,"") -> 0 | AD23: =IFERROR(K23*$V23,"") -> 0 | AE23: =IFERROR(L23*$V23,"") -> 0 | AF23: =IFERROR(M23*$V23,"") -> 0 | AG23: =IFERROR(N23*$V23,"") -> 0 | AH23: =IFERROR(O23*$V23,"") -> 0 | AI23: =IFERROR(P23*$V23,"") -> 0 | ... AM23: =IFERROR(T23*$V23,"") -> 0 | AN23: =SUM(AB23:AM23) -> 0 | AO23: =AN23=G23 -> FALSE
C24: =_xlfn.XLOOKUP($B24,contract[Social Value Measures],contract[Reporting Frequency]) -> 0 | D24: =IF($B24="","",_xlfn.XLOOKUP($B24,contract[Social Value Measures],contract[Total Supplier Commitment (Units)],"")) | E24: =IF($B24="","",SUM($I24:$T24)) | F24: =IFERROR(E24/D24,"") | G24: =IFERROR(_xlfn.XLOOKUP($B24,contract[Social Value Measures],contract[Social value proxy £])*E24,"") | U24: =_xlfn.XLOOKUP($B24,contract[Social Value Measures],contract[Units]) -> 0 | V24: =_xlfn.XLOOKUP($B24,contract[Social Value Measures],contract[Social value proxy £]) -> 0 | W24: =_xlfn.XLOOKUP($B24,contract[Social Value Measures],contract[Theme]) -> 0 | X24: =_xlfn.XLOOKUP($B24,contract[Social Value Measures],contract[Outcome]) -> 0 | Y24: =_xlfn.XLOOKUP($B24,contract[Social Value Measures],contract[Reference]) -> 0 | Z24: =IF($B24="","",_xlfn.XLOOKUP($B24,contract[Social Value Measures],contract[Milestones / Comments],"")) | AA24: =_xlfn.XLOOKUP($B24,contract[Social Value Measures],contract[Social value proxy £ committed]) -> 0 | AB24: =IFERROR(I24*$V24,"") -> 0 | AC24: =IFERROR(J24*$V24,"") -> 0 | AD24: =IFERROR(K24*$V24,"") -> 0 | AE24: =IFERROR(L24*$V24,"") -> 0 | AF24: =IFERROR(M24*$V24,"") -> 0 | AG24: =IFERROR(N24*$V24,"") -> 0 | AH24: =IFERROR(O24*$V24,"") -> 0 | AI24: =IFERROR(P24*$V24,"") -> 0 | ... AM24: =IFERROR(T24*$V24,"") -> 0 | AN24: =SUM(AB24:AM24) -> 0 | AO24: =AN24=G24 -> FALSE
C25: =_xlfn.XLOOKUP($B25,contract[Social Value Measures],contract[Reporting Frequency]) -> 0 | D25: =IF($B25="","",_xlfn.XLOOKUP($B25,contract[Social Value Measures],contract[Total Supplier Commitment (Units)],"")) | E25: =IF($B25="","",SUM($I25:$T25)) | F25: =IFERROR(E25/D25,"") | G25: =IFERROR(_xlfn.XLOOKUP($B25,contract[Social Value Measures],contract[Social value proxy £])*E25,"") | U25: =_xlfn.XLOOKUP($B25,contract[Social Value Measures],contract[Units]) -> 0 | V25: =_xlfn.XLOOKUP($B25,contract[Social Value Measures],contract[Social value proxy £]) -> 0 | W25: =_xlfn.XLOOKUP($B25,contract[Social Value Measures],contract[Theme]) -> 0 | X25: =_xlfn.XLOOKUP($B25,contract[Social Value Measures],contract[Outcome]) -> 0 | Y25: =_xlfn.XLOOKUP($B25,contract[Social Value Measures],contract[Reference]) -> 0 | Z25: =IF($B25="","",_xlfn.XLOOKUP($B25,contract[Social Value Measures],contract[Milestones / Comments],"")) | AA25: =_xlfn.XLOOKUP($B25,contract[Social Value Measures],contract[Social value proxy £ committed]) -> 0 | AB25: =IFERROR(I25*$V25,"") -> 0 | AC25: =IFERROR(J25*$V25,"") -> 0 | AD25: =IFERROR(K25*$V25,"") -> 0 | AE25: =IFERROR(L25*$V25,"") -> 0 | AF25: =IFERROR(M25*$V25,"") -> 0 | AG25: =IFERROR(N25*$V25,"") -> 0 | AH25: =IFERROR(O25*$V25,"") -> 0 | AI25: =IFERROR(P25*$V25,"") -> 0 | ... AM25: =IFERROR(T25*$V25,"") -> 0 | AN25: =SUM(AB25:AM25) -> 0 | AO25: =AN25=G25 -> FALSE
C26: =_xlfn.XLOOKUP($B26,contract[Social Value Measures],contract[Reporting Frequency]) -> 0 | D26: =IF($B26="","",_xlfn.XLOOKUP($B26,contract[Social Value Measures],contract[Total Supplier Commitment (Units)],"")) | E26: =IF($B26="","",SUM($I26:$T26)) | F26: =IFERROR(E26/D26,"") | G26: =IFERROR(_xlfn.XLOOKUP($B26,contract[Social Value Measures],contract[Social value proxy £])*E26,"") | U26: =_xlfn.XLOOKUP($B26,contract[Social Value Measures],contract[Units]) -> 0 | V26: =_xlfn.XLOOKUP($B26,contract[Social Value Measures],contract[Social value proxy £]) -> 0 | W26: =_xlfn.XLOOKUP($B26,contract[Social Value Measures],contract[Theme]) -> 0 | X26: =_xlfn.XLOOKUP($B26,contract[Social Value Measures],contract[Outcome]) -> 0 | Y26: =_xlfn.XLOOKUP($B26,contract[Social Value Measures],contract[Reference]) -> 0 | Z26: =IF($B26="","",_xlfn.XLOOKUP($B26,contract[Social Value Measures],contract[Milestones / Comments],"")) | AA26: =_xlfn.XLOOKUP($B26,contract[Social Value Measures],contract[Social value proxy £ committed]) -> 0 | AB26: =IFERROR(I26*$V26,"") -> 0 | AC26: =IFERROR(J26*$V26,"") -> 0 | AD26: =IFERROR(K26*$V26,"") -> 0 | AE26: =IFERROR(L26*$V26,"") -> 0 | AF26: =IFERROR(M26*$V26,"") -> 0 | AG26: =IFERROR(N26*$V26,"") -> 0 | AH26: =IFERROR(O26*$V26,"") -> 0 | AI26: =IFERROR(P26*$V26,"") -> 0 | ... AM26: =IFERROR(T26*$V26,"") -> 0 | AN26: =SUM(AB26:AM26) -> 0 | AO26: =AN26=G26 -> FALSE
C27: =_xlfn.XLOOKUP($B27,contract[Social Value Measures],contract[Reporting Frequency]) -> 0 | D27: =IF($B27="","",_xlfn.XLOOKUP($B27,contract[Social Value Measures],contract[Total Supplier Commitment (Units)],"")) | E27: =IF($B27="","",SUM($I27:$T27)) | F27: =IFERROR(E27/D27,"") | G27: =IFERROR(_xlfn.XLOOKUP($B27,contract[Social Value Measures],contract[Social value proxy £])*E27,"") | U27: =_xlfn.XLOOKUP($B27,contract[Social Value Measures],contract[Units]) -> 0 | V27: =_xlfn.XLOOKUP($B27,contract[Social Value Measures],contract[Social value proxy £]) -> 0 | W27: =_xlfn.XLOOKUP($B27,contract[Social Value Measures],contract[Theme]) -> 0 | X27: =_xlfn.XLOOKUP($B27,contract[Social Value Measures],contract[Outcome]) -> 0 | Y27: =_xlfn.XLOOKUP($B27,contract[Social Value Measures],contract[Reference]) -> 0 | Z27: =IF($B27="","",_xlfn.XLOOKUP($B27,contract[Social Value Measures],contract[Milestones / Comments],"")) | AA27: =_xlfn.XLOOKUP($B27,contract[Social Value Measures],contract[Social value proxy £ committed]) -> 0 | AB27: =IFERROR(I27*$V27,"") -> 0 | AC27: =IFERROR(J27*$V27,"") -> 0 | AD27: =IFERROR(K27*$V27,"") -> 0 | AE27: =IFERROR(L27*$V27,"") -> 0 | AF27: =IFERROR(M27*$V27,"") -> 0 | AG27: =IFERROR(N27*$V27,"") -> 0 | AH27: =IFERROR(O27*$V27,"") -> 0 | AI27: =IFERROR(P27*$V27,"") -> 0 | ... AM27: =IFERROR(T27*$V27,"") -> 0 | AN27: =SUM(AB27:AM27) -> 0 | AO27: =AN27=G27 -> FALSE
C28: =_xlfn.XLOOKUP($B28,contract[Social Value Measures],contract[Reporting Frequency]) -> 0 | D28: =IF($B28="","",_xlfn.XLOOKUP($B28,contract[Social Value Measures],contract[Total Supplier Commitment (Units)],"")) | E28: =IF($B28="","",SUM($I28:$T28)) | F28: =IFERROR(E28/D28,"") | G28: =IFERROR(_xlfn.XLOOKUP($B28,contract[Social Value Measures],contract[Social value proxy £])*E28,"") | U28: =_xlfn.XLOOKUP($B28,contract[Social Value Measures],contract[Units]) -> 0 | V28: =_xlfn.XLOOKUP($B28,contract[Social Value Measures],contract[Social value proxy £]) -> 0 | W28: =_xlfn.XLOOKUP($B28,contract[Social Value Measures],contract[Theme]) -> 0 | X28: =_xlfn.XLOOKUP($B28,contract[Social Value Measures],contract[Outcome]) -> 0 | Y28: =_xlfn.XLOOKUP($B28,contract[Social Value Measures],contract[Reference]) -> 0 | Z28: =IF($B28="","",_xlfn.XLOOKUP($B28,contract[Social Value Measures],contract[Milestones / Comments],"")) | AA28: =_xlfn.XLOOKUP($B28,contract[Social Value Measures],contract[Social value proxy £ committed]) -> 0 | AB28: =IFERROR(I28*$V28,"") -> 0 | AC28: =IFERROR(J28*$V28,"") -> 0 | AD28: =IFERROR(K28*$V28,"") -> 0 | AE28: =IFERROR(L28*$V28,"") -> 0 | AF28: =IFERROR(M28*$V28,"") -> 0 | AG28: =IFERROR(N28*$V28,"") -> 0 | AH28: =IFERROR(O28*$V28,"") -> 0 | AI28: =IFERROR(P28*$V28,"") -> 0 | ... AM28: =IFERROR(T28*$V28,"") -> 0 | AN28: =SUM(AB28:AM28) -> 0 | AO28: =AN28=G28 -> FALSE
... C202: =_xlfn.XLOOKUP($B202,contract[Social Value Measures],contract[Reporting Frequency]) -> 0 | D202: =IF($B202="","",_xlfn.XLOOKUP($B202,contract[Social Value Measures],contract[Total Supplier Commitment (Units)],"")) | E202: =IF($B202="","",SUM($I202:$T202)) | F202: =IFERROR(E202/D202,"") | G202: =IFERROR(_xlfn.XLOOKUP($B202,contract[Social Value Measures],contract[Social value proxy £])*E202,"") | U202: =_xlfn.XLOOKUP($B202,contract[Social Value Measures],contract[Units]) -> 0 | V202: =_xlfn.XLOOKUP($B202,contract[Social Value Measures],contract[Social value proxy £]) -> 0 | W202: =_xlfn.XLOOKUP($B202,contract[Social Value Measures],contract[Theme]) -> 0 | X202: =_xlfn.XLOOKUP($B202,contract[Social Value Measures],contract[Outcome]) -> 0 | Y202: =_xlfn.XLOOKUP($B202,contract[Social Value Measures],contract[Reference]) -> 0 | Z202: =IF($B202="","",_xlfn.XLOOKUP($B202,contract[Social Value Measures],contract[Milestones / Comments],"")) | AA202: =_xlfn.XLOOKUP($B202,contract[Social Value Measures],contract[Social value proxy £ committed]) -> 0 | AB202: =IFERROR(I202*$V202,"") -> 0 | AC202: =IFERROR(J202*$V202,"") -> 0 | AD202: =IFERROR(K202*$V202,"") -> 0 | AE202: =IFERROR(L202*$V202,"") -> 0 | AF202: =IFERROR(M202*$V202,"") -> 0 | AG202: =IFERROR(N202*$V202,"") -> 0 | AH202: =IFERROR(O202*$V202,"") -> 0 | AI202: =IFERROR(P202*$V202,"") -> 0 | ... AM202: =IFERROR(T202*$V202,"") -> 0 | AN202: =SUM(AB202:AM202) -> 0 | AO202: =AN202=G202 -> FALSE

Sheet 3 - Dashboard
B2: Dashboard | F2: =contract_ref -> 0 | H2: =contract_name -> 0 | I2: =contract_value -> 0 | K2: =contract_supplier -> 0
B3: Summary of key information for contract management reporting | F3: Contract Reference | H3: Contract Name | I3: Contract Value | K3: Contract Supplier
E6: Cumulative Proxy Social Value Delivered (£)
B9: Reporting frequency | C9: =reporting_frequency -> 0
B11: Reporting Start Date | C11: =reporting_start -> 0
B13: Finacial / Regular Year | C13: =reporting_type -> 0
B15: Number of Unique
B16: Measures : | C16: =Ref!$G$6 -> 1
B17: Themes : | C17: =Ref!$H$6 -> 1
A19: (i) | B19: Filters and Selections
B20: Each of the filters can be toggled on/off. To do this hold Ctrl+click on the option from the list provided | E20: Total proxy social value committed: | F20: =Processing!$C$105 -> #VALUE! | H20: Total proxy social value delivered to date: | I20: =dash_theme[[#Totals],[Social value delievered proxy £]] -> #VALUE! | K20: Proportion of social value commitment delivered to date: | L20: =I20/F20 -> #VALUE!
E22: Total Proxy Social Value Delivered (£) by Theme | H22: Number of Themes : | I22: =[1]Ref!H7 -> 4 | K22: Total Value (£) : | L22: =dash_theme[[#Totals],[Social value delievered proxy £]] -> #VALUE!
E48: RAG status of contract social value measures | K48: Total Number of RAG : | L48: =dash_rag[[#Totals],[Count of RAG]] -> 0

Sheet 4 - Output
B2: Output
B3: Flatfile output of all data to be used in BI tools or part 2 of this toolkit
B6: Description
B9: Data that has been generated from the toolkit is output here in a flat file format. This can be used in the "Social Value - Organisation" sheet or exported to use in your council's own BI software.
O12: Reporting period Count | AH12: Reporting period Value £
B13: Contract Name | C13: Contract Reference | D13: Contract Supplier | E13: Contract Value | F13: Reporting frequency | G13: Reporting Start Date | H13: Finacial / Regular year | I13: Contract Measures | J13: Total supplier commitment | K13: Commitment delivered | L13: Proportion complete | M13: Social value delievered proxy £ | N13: RAG status | O13: C1 | P13: C2 | Q13: C3 | R13: C4 | S13: C5 | T13: C6 | U13: C7 | V13: C8 | W13: C9 | X13: C10 | Y13: C11 | Z13: C12 | AA13: Units | AB13: Social value proxy | AC13: Theme | AD13: Outcome | AE13: Measure Reference | AF13: Milestones / Comments | AG13: Social value committed proxy £ | AH13: V1 | AI13: V2 | AJ13: V3 | AK13: V4 | AL13: V5 | AM13: V6 | AN13: V7 | AO13: V8 | AP13: V9 | AQ13: V10 | AR13: V11 | AS13: V12
B14: =IF(Output[[#This Row],[Contract Measures]]="","",contract_name) -> #VALUE! | C14: =IF(Output[[#This Row],[Contract Measures]]="","",contract_ref) -> #VALUE! | D14: =IF(Output[[#This Row],[Contract Measures]]="","",contract_supplier) -> #VALUE! | E14: =IF(Output[[#This Row],[Contract Measures]]="","",contract_value) -> #VALUE! | F14: =IF(Output[[#This Row],[Contract Measures]]="","",reporting_frequency) -> #VALUE! | G14: =IF(Output[[#This Row],[Contract Measures]]="","",reporting_start) -> #VALUE! | H14: =IF(Output[[#This Row],[Contract Measures]]="","",reporting_type) -> #VALUE! | I14: =IF('2 - Monitoring'!B16=0,"",'2 - Monitoring'!B16) -> #VALUE! | J14: ='2 - Monitoring'!D16 -> #VALUE! | K14: ='2 - Monitoring'!E16 -> #VALUE! | L14: ='2 - Monitoring'!F16 | M14: ='2 - Monitoring'!G16 | N14: =IF(Output[[#This Row],[Contract Measures]]="","",'2 - Monitoring'!H16) -> #VALUE! | O14: =IF(Output[[#This Row],[Contract Measures]]="","",'2 - Monitoring'!I16) -> #VALUE! | P14: =IF(Output[[#This Row],[Contract Measures]]="","",'2 - Monitoring'!J16) -> #VALUE! | Q14: =IF(Output[[#This Row],[Contract Measures]]="","",'2 - Monitoring'!K16) -> #VALUE! | R14: =IF(Output[[#This Row],[Contract Measures]]="","",'2 - Monitoring'!L16) -> #VALUE! | S14: =IF(Output[[#This Row],[Contract Measures]]="","",'2 - Monitoring'!M16) -> #VALUE! | T14: =IF(Output[[#This Row],[Contract Measures]]="","",'2 - Monitoring'!N16) -> #VALUE! | U14: =IF(Output[[#This Row],[Contract Measures]]="","",'2 - Monitoring'!O16) -> #VALUE! | ... AS14: =IF(Output[[#This Row],[Contract Measures]]="","",'2 - Monitoring'!AM16) -> #VALUE!
B15: =IF(Output[[#This Row],[Contract Measures]]="","",contract_name) | C15: =IF(Output[[#This Row],[Contract Measures]]="","",contract_ref) | D15: =IF(Output[[#This Row],[Contract Measures]]="","",contract_supplier) | E15: =IF(Output[[#This Row],[Contract Measures]]="","",contract_value) | F15: =IF(Output[[#This Row],[Contract Measures]]="","",reporting_frequency) | G15: =IF(Output[[#This Row],[Contract Measures]]="","",reporting_start) | H15: =IF(Output[[#This Row],[Contract Measures]]="","",reporting_type) | I15: =IF('2 - Monitoring'!B17=0,"",'2 - Monitoring'!B17) | J15: ='2 - Monitoring'!D17 | K15: ='2 - Monitoring'!E17 | L15: ='2 - Monitoring'!F17 | M15: ='2 - Monitoring'!G17 | N15: =IF(Output[[#This Row],[Contract Measures]]="","",'2 - Monitoring'!H17) | O15: =IF(Output[[#This Row],[Contract Measures]]="","",'2 - Monitoring'!I17) | P15: =IF(Output[[#This Row],[Contract Measures]]="","",'2 - Monitoring'!J17) | Q15: =IF(Output[[#This Row],[Contract Measures]]="","",'2 - Monitoring'!K17) | R15: =IF(Output[[#This Row],[Contract Measures]]="","",'2 - Monitoring'!L17) | S15: =IF(Output[[#This Row],[Contract Measures]]="","",'2 - Monitoring'!M17) | T15: =IF(Output[[#This Row],[Contract Measures]]="","",'2 - Monitoring'!N17) | U15: =IF(Output[[#This Row],[Contract Measures]]="","",'2 - Monitoring'!O17) | ... AS15: =IF(Output[[#This Row],[Contract Measures]]="","",'2 - Monitoring'!AM17)
B16: =IF(Output[[#This Row],[Contract Measures]]="","",contract_name) | C16: =IF(Output[[#This Row],[Contract Measures]]="","",contract_ref) | D16: =IF(Output[[#This Row],[Contract Measures]]="","",contract_supplier) | E16: =IF(Output[[#This Row],[Contract Measures]]="","",contract_value) | F16: =IF(Output[[#This Row],[Contract Measures]]="","",reporting_frequency) | G16: =IF(Output[[#This Row],[Contract Measures]]="","",reporting_start) | H16: =IF(Output[[#This Row],[Contract Measures]]="","",reporting_type) | I16: =IF('2 - Monitoring'!B18=0,"",'2 - Monitoring'!B18) | J16: ='2 - Monitoring'!D18 | K16: ='2 - Monitoring'!E18 | L16: ='2 - Monitoring'!F18 | M16: ='2 - Monitoring'!G18 | N16: =IF(Output[[#This Row],[Contract Measures]]="","",'2 - Monitoring'!H18) | O16: =IF(Output[[#This Row],[Contract Measures]]="","",'2 - Monitoring'!I18) | P16: =IF(Output[[#This Row],[Contract Measures]]="","",'2 - Monitoring'!J18) | Q16: =IF(Output[[#This Row],[Contract Measures]]="","",'2 - Monitoring'!K18) | R16: =IF(Output[[#This Row],[Contract Measures]]="","",'2 - Monitoring'!L18) | S16: =IF(Output[[#This Row],[Contract Measures]]="","",'2 - Monitoring'!M18) | T16: =IF(Output[[#This Row],[Contract Measures]]="","",'2 - Monitoring'!N18) | U16: =IF(Output[[#This Row],[Contract Measures]]="","",'2 - Monitoring'!O18) | ... AS16: =IF(Output[[#This Row],[Contract Measures]]="","",'2 - Monitoring'!AM18)
B17: =IF(Output[[#This Row],[Contract Measures]]="","",contract_name) | C17: =IF(Output[[#This Row],[Contract Measures]]="","",contract_ref) | D17: =IF(Output[[#This Row],[Contract Measures]]="","",contract_supplier) | E17: =IF(Output[[#This Row],[Contract Measures]]="","",contract_value) | F17: =IF(Output[[#This Row],[Contract Measures]]="","",reporting_frequency) | G17: =IF(Output[[#This Row],[Contract Measures]]="","",reporting_start) | H17: =IF(Output[[#This Row],[Contract Measures]]="","",reporting_type) | I17: =IF('2 - Monitoring'!B19=0,"",'2 - Monitoring'!B19) | J17: ='2 - Monitoring'!D19 | K17: ='2 - Monitoring'!E19 | L17: ='2 - Monitoring'!F19 | M17: ='2 - Monitoring'!G19 | N17: =IF(Output[[#This Row],[Contract Measures]]="","",'2 - Monitoring'!H19) | O17: =IF(Output[[#This Row],[Contract Measures]]="","",'2 - Monitoring'!I19) | P17: =IF(Output[[#This Row],[Contract Measures]]="","",'2 - Monitoring'!J19) | Q17: =IF(Output[[#This Row],[Contract Measures]]="","",'2 - Monitoring'!K19) | R17: =IF(Output[[#This Row],[Contract Measures]]="","",'2 - Monitoring'!L19) | S17: =IF(Output[[#This Row],[Contract Measures]]="","",'2 - Monitoring'!M19) | T17: =IF(Output[[#This Row],[Contract Measures]]="","",'2 - Monitoring'!N19) | U17: =IF(Output[[#This Row],[Contract Measures]]="","",'2 - Monitoring'!O19) | ... AS17: =IF(Output[[#This Row],[Contract Measures]]="","",'2 - Monitoring'!AM19)
B18: =IF(Output[[#This Row],[Contract Measures]]="","",contract_name) | C18: =IF(Output[[#This Row],[Contract Measures]]="","",contract_ref) | D18: =IF(Output[[#This Row],[Contract Measures]]="","",contract_supplier) | E18: =IF(Output[[#This Row],[Contract Measures]]="","",contract_value) | F18: =IF(Output[[#This Row],[Contract Measures]]="","",reporting_frequency) | G18: =IF(Output[[#This Row],[Contract Measures]]="","",reporting_start) | H18: =IF(Output[[#This Row],[Contract Measures]]="","",reporting_type) | I18: =IF('2 - Monitoring'!B20=0,"",'2 - Monitoring'!B20) | J18: ='2 - Monitoring'!D20 | K18: ='2 - Monitoring'!E20 | L18: ='2 - Monitoring'!F20 | M18: ='2 - Monitoring'!G20 | N18: =IF(Output[[#This Row],[Contract Measures]]="","",'2 - Monitoring'!H20) | O18: =IF(Output[[#This Row],[Contract Measures]]="","",'2 - Monitoring'!I20) | P18: =IF(Output[[#This Row],[Contract Measures]]="","",'2 - Monitoring'!J20) | Q18: =IF(Output[[#This Row],[Contract Measures]]="","",'2 - Monitoring'!K20) | R18: =IF(Output[[#This Row],[Contract Measures]]="","",'2 - Monitoring'!L20) | S18: =IF(Output[[#This Row],[Contract Measures]]="","",'2 - Monitoring'!M20) | T18: =IF(Output[[#This Row],[Contract Measures]]="","",'2 - Monitoring'!N20) | U18: =IF(Output[[#This Row],[Contract Measures]]="","",'2 - Monitoring'!O20) | ... AS18: =IF(Output[[#This Row],[Contract Measures]]="","",'2 - Monitoring'!AM20)
B19: =IF(Output[[#This Row],[Contract Measures]]="","",contract_name) | C19: =IF(Output[[#This Row],[Contract Measures]]="","",contract_ref) | D19: =IF(Output[[#This Row],[Contract Measures]]="","",contract_supplier) | E19: =IF(Output[[#This Row],[Contract Measures]]="","",contract_value) | F19: =IF(Output[[#This Row],[Contract Measures]]="","",reporting_frequency) | G19: =IF(Output[[#This Row],[Contract Measures]]="","",reporting_start) | H19: =IF(Output[[#This Row],[Contract Measures]]="","",reporting_type) | I19: =IF('2 - Monitoring'!B21=0,"",'2 - Monitoring'!B21) | J19: ='2 - Monitoring'!D21 | K19: ='2 - Monitoring'!E21 | L19: ='2 - Monitoring'!F21 | M19: ='2 - Monitoring'!G21 | N19: =IF(Output[[#This Row],[Contract Measures]]="","",'2 - Monitoring'!H21) | O19: =IF(Output[[#This Row],[Contract Measures]]="","",'2 - Monitoring'!I21) | P19: =IF(Output[[#This Row],[Contract Measures]]="","",'2 - Monitoring'!J21) | Q19: =IF(Output[[#This Row],[Contract Measures]]="","",'2 - Monitoring'!K21) | R19: =IF(Output[[#This Row],[Contract Measures]]="","",'2 - Monitoring'!L21) | S19: =IF(Output[[#This Row],[Contract Measures]]="","",'2 - Monitoring'!M21) | T19: =IF(Output[[#This Row],[Contract Measures]]="","",'2 - Monitoring'!N21) | U19: =IF(Output[[#This Row],[Contract Measures]]="","",'2 - Monitoring'!O21) | ... AS19: =IF(Output[[#This Row],[Contract Measures]]="","",'2 - Monitoring'!AM21)
B20: =IF(Output[[#This Row],[Contract Measures]]="","",contract_name) | C20: =IF(Output[[#This Row],[Contract Measures]]="","",contract_ref) | D20: =IF(Output[[#This Row],[Contract Measures]]="","",contract_supplier) | E20: =IF(Output[[#This Row],[Contract Measures]]="","",contract_value) | F20: =IF(Output[[#This Row],[Contract Measures]]="","",reporting_frequency) | G20: =IF(Output[[#This Row],[Contract Measures]]="","",reporting_start) | H20: =IF(Output[[#This Row],[Contract Measures]]="","",reporting_type) | I20: =IF('2 - Monitoring'!B22=0,"",'2 - Monitoring'!B22) | J20: ='2 - Monitoring'!D22 | K20: ='2 - Monitoring'!E22 | L20: ='2 - Monitoring'!F22 | M20: ='2 - Monitoring'!G22 | N20: =IF(Output[[#This Row],[Contract Measures]]="","",'2 - Monitoring'!H22) | O20: =IF(Output[[#This Row],[Contract Measures]]="","",'2 - Monitoring'!I22) | P20: =IF(Output[[#This Row],[Contract Measures]]="","",'2 - Monitoring'!J22) | Q20: =IF(Output[[#This Row],[Contract Measures]]="","",'2 - Monitoring'!K22) | R20: =IF(Output[[#This Row],[Contract Measures]]="","",'2 - Monitoring'!L22) | S20: =IF(Output[[#This Row],[Contract Measures]]="","",'2 - Monitoring'!M22) | T20: =IF(Output[[#This Row],[Contract Measures]]="","",'2 - Monitoring'!N22) | U20: =IF(Output[[#This Row],[Contract Measures]]="","",'2 - Monitoring'!O22) | ... AS20: =IF(Output[[#This Row],[Contract Measures]]="","",'2 - Monitoring'!AM22)
B21: =IF(Output[[#This Row],[Contract Measures]]="","",contract_name) | C21: =IF(Output[[#This Row],[Contract Measures]]="","",contract_ref) | D21: =IF(Output[[#This Row],[Contract Measures]]="","",contract_supplier) | E21: =IF(Output[[#This Row],[Contract Measures]]="","",contract_value) | F21: =IF(Output[[#This Row],[Contract Measures]]="","",reporting_frequency) | G21: =IF(Output[[#This Row],[Contract Measures]]="","",reporting_start) | H21: =IF(Output[[#This Row],[Contract Measures]]="","",reporting_type) | I21: =IF('2 - Monitoring'!B23=0,"",'2 - Monitoring'!B23) | J21: ='2 - Monitoring'!D23 | K21: ='2 - Monitoring'!E23 | L21: ='2 - Monitoring'!F23 | M21: ='2 - Monitoring'!G23 | N21: =IF(Output[[#This Row],[Contract Measures]]="","",'2 - Monitoring'!H23) | O21: =IF(Output[[#This Row],[Contract Measures]]="","",'2 - Monitoring'!I23) | P21: =IF(Output[[#This Row],[Contract Measures]]="","",'2 - Monitoring'!J23) | Q21: =IF(Output[[#This Row],[Contract Measures]]="","",'2 - Monitoring'!K23) | R21: =IF(Output[[#This Row],[Contract Measures]]="","",'2 - Monitoring'!L23) | S21: =IF(Output[[#This Row],[Contract Measures]]="","",'2 - Monitoring'!M23) | T21: =IF(Output[[#This Row],[Contract Measures]]="","",'2 - Monitoring'!N23) | U21: =IF(Output[[#This Row],[Contract Measures]]="","",'2 - Monitoring'!O23) | ... AS21: =IF(Output[[#This Row],[Contract Measures]]="","",'2 - Monitoring'!AM23)
B22: =IF(Output[[#This Row],[Contract Measures]]="","",contract_name) | C22: =IF(Output[[#This Row],[Contract Measures]]="","",contract_ref) | D22: =IF(Output[[#This Row],[Contract Measures]]="","",contract_supplier) | E22: =IF(Output[[#This Row],[Contract Measures]]="","",contract_value) | F22: =IF(Output[[#This Row],[Contract Measures]]="","",reporting_frequency) | G22: =IF(Output[[#This Row],[Contract Measures]]="","",reporting_start) | H22: =IF(Output[[#This Row],[Contract Measures]]="","",reporting_type) | I22: =IF('2 - Monitoring'!B24=0,"",'2 - Monitoring'!B24) | J22: ='2 - Monitoring'!D24 | K22: ='2 - Monitoring'!E24 | L22: ='2 - Monitoring'!F24 | M22: ='2 - Monitoring'!G24 | N22: =IF(Output[[#This Row],[Contract Measures]]="","",'2 - Monitoring'!H24) | O22: =IF(Output[[#This Row],[Contract Measures]]="","",'2 - Monitoring'!I24) | P22: =IF(Output[[#This Row],[Contract Measures]]="","",'2 - Monitoring'!J24) | Q22: =IF(Output[[#This Row],[Contract Measures]]="","",'2 - Monitoring'!K24) | R22: =IF(Output[[#This Row],[Contract Measures]]="","",'2 - Monitoring'!L24) | S22: =IF(Output[[#This Row],[Contract Measures]]="","",'2 - Monitoring'!M24) | T22: =IF(Output[[#This Row],[Contract Measures]]="","",'2 - Monitoring'!N24) | U22: =IF(Output[[#This Row],[Contract Measures]]="","",'2 - Monitoring'!O24) | ... AS22: =IF(Output[[#This Row],[Contract Measures]]="","",'2 - Monitoring'!AM24)
B23: =IF(Output[[#This Row],[Contract Measures]]="","",contract_name) | C23: =IF(Output[[#This Row],[Contract Measures]]="","",contract_ref) | D23: =IF(Output[[#This Row],[Contract Measures]]="","",contract_supplier) | E23: =IF(Output[[#This Row],[Contract Measures]]="","",contract_value) | F23: =IF(Output[[#This Row],[Contract Measures]]="","",reporting_frequency) | G23: =IF(Output[[#This Row],[Contract Measures]]="","",reporting_start) | H23: =IF(Output[[#This Row],[Contract Measures]]="","",reporting_type) | I23: =IF('2 - Monitoring'!B25=0,"",'2 - Monitoring'!B25) | J23: ='2 - Monitoring'!D25 | K23: ='2 - Monitoring'!E25 | L23: ='2 - Monitoring'!F25 | M23: ='2 - Monitoring'!G25 | N23: =IF(Output[[#This Row],[Contract Measures]]="","",'2 - Monitoring'!H25) | O23: =IF(Output[[#This Row],[Contract Measures]]="","",'2 - Monitoring'!I25) | P23: =IF(Output[[#This Row],[Contract Measures]]="","",'2 - Monitoring'!J25) | Q23: =IF(Output[[#This Row],[Contract Measures]]="","",'2 - Monitoring'!K25) | R23: =IF(Output[[#This Row],[Contract Measures]]="","",'2 - Monitoring'!L25) | S23: =IF(Output[[#This Row],[Contract Measures]]="","",'2 - Monitoring'!M25) | T23: =IF(Output[[#This Row],[Contract Measures]]="","",'2 - Monitoring'!N25) | U23: =IF(Output[[#This Row],[Contract Measures]]="","",'2 - Monitoring'!O25) | ... AS23: =IF(Output[[#This Row],[Contract Measures]]="","",'2 - Monitoring'!AM25)
B24: =IF(Output[[#This Row],[Contract Measures]]="","",contract_name) | C24: =IF(Output[[#This Row],[Contract Measures]]="","",contract_ref) | D24: =IF(Output[[#This Row],[Contract Measures]]="","",contract_supplier) | E24: =IF(Output[[#This Row],[Contract Measures]]="","",contract_value) | F24: =IF(Output[[#This Row],[Contract Measures]]="","",reporting_frequency) | G24: =IF(Output[[#This Row],[Contract Measures]]="","",reporting_start) | H24: =IF(Output[[#This Row],[Contract Measures]]="","",reporting_type) | I24: =IF('2 - Monitoring'!B26=0,"",'2 - Monitoring'!B26) | J24: ='2 - Monitoring'!D26 | K24: ='2 - Monitoring'!E26 | L24: ='2 - Monitoring'!F26 | M24: ='2 - Monitoring'!G26 | N24: =IF(Output[[#This Row],[Contract Measures]]="","",'2 - Monitoring'!H26) | O24: =IF(Output[[#This Row],[Contract Measures]]="","",'2 - Monitoring'!I26) | P24: =IF(Output[[#This Row],[Contract Measures]]="","",'2 - Monitoring'!J26) | Q24: =IF(Output[[#This Row],[Contract Measures]]="","",'2 - Monitoring'!K26) | R24: =IF(Output[[#This Row],[Contract Measures]]="","",'2 - Monitoring'!L26) | S24: =IF(Output[[#This Row],[Contract Measures]]="","",'2 - Monitoring'!M26) | T24: =IF(Output[[#This Row],[Contract Measures]]="","",'2 - Monitoring'!N26) | U24: =IF(Output[[#This Row],[Contract Measures]]="","",'2 - Monitoring'!O26) | ... AS24: =IF(Output[[#This Row],[Contract Measures]]="","",'2 - Monitoring'!AM26)
B25: =IF(Output[[#This Row],[Contract Measures]]="","",contract_name) | C25: =IF(Output[[#This Row],[Contract Measures]]="","",contract_ref) | D25: =IF(Output[[#This Row],[Contract Measures]]="","",contract_supplier) | E25: =IF(Output[[#This Row],[Contract Measures]]="","",contract_value) | F25: =IF(Output[[#This Row],[Contract Measures]]="","",reporting_frequency) | G25: =IF(Output[[#This Row],[Contract Measures]]="","",reporting_start) | H25: =IF(Output[[#This Row],[Contract Measures]]="","",reporting_type) | I25: =IF('2 - Monitoring'!B27=0,"",'2 - Monitoring'!B27) | J25: ='2 - Monitoring'!D27 | K25: ='2 - Monitoring'!E27 | L25: ='2 - Monitoring'!F27 | M25: ='2 - Monitoring'!G27 | N25: =IF(Output[[#This Row],[Contract Measures]]="","",'2 - Monitoring'!H27) | O25: =IF(Output[[#This Row],[Contract Measures]]="","",'2 - Monitoring'!I27) | P25: =IF(Output[[#This Row],[Contract Measures]]="","",'2 - Monitoring'!J27) | Q25: =IF(Output[[#This Row],[Contract Measures]]="","",'2 - Monitoring'!K27) | R25: =IF(Output[[#This Row],[Contract Measures]]="","",'2 - Monitoring'!L27) | S25: =IF(Output[[#This Row],[Contract Measures]]="","",'2 - Monitoring'!M27) | T25: =IF(Output[[#This Row],[Contract Measures]]="","",'2 - Monitoring'!N27) | U25: =IF(Output[[#This Row],[Contract Measures]]="","",'2 - Monitoring'!O27) | ... AS25: =IF(Output[[#This Row],[Contract Measures]]="","",'2 - Monitoring'!AM27)
... B158: =IF(Output[[#This Row],[Contract Measures]]="","",contract_name) | C158: =IF(Output[[#This Row],[Contract Measures]]="","",contract_ref) | D158: =IF(Output[[#This Row],[Contract Measures]]="","",contract_supplier) | E158: =IF(Output[[#This Row],[Contract Measures]]="","",contract_value) | F158: =IF(Output[[#This Row],[Contract Measures]]="","",reporting_frequency) | G158: =IF(Output[[#This Row],[Contract Measures]]="","",reporting_start) | H158: =IF(Output[[#This Row],[Contract Measures]]="","",reporting_type) | I158: =IF('2 - Monitoring'!B160=0,"",'2 - Monitoring'!B160) | J158: ='2 - Monitoring'!D160 | K158: ='2 - Monitoring'!E160 | L158: ='2 - Monitoring'!F160 | M158: ='2 - Monitoring'!G160 | N158: =IF(Output[[#This Row],[Contract Measures]]="","",'2 - Monitoring'!H160) | O158: =IF(Output[[#This Row],[Contract Measures]]="","",'2 - Monitoring'!I160) | P158: =IF(Output[[#This Row],[Contract Measures]]="","",'2 - Monitoring'!J160) | Q158: =IF(Output[[#This Row],[Contract Measures]]="","",'2 - Monitoring'!K160) | R158: =IF(Output[[#This Row],[Contract Measures]]="","",'2 - Monitoring'!L160) | S158: =IF(Output[[#This Row],[Contract Measures]]="","",'2 - Monitoring'!M160) | T158: =IF(Output[[#This Row],[Contract Measures]]="","",'2 - Monitoring'!N160) | U158: =IF(Output[[#This Row],[Contract Measures]]="","",'2 - Monitoring'!O160) | ... AS158: =IF(Output[[#This Row],[Contract Measures]]="","",'2 - Monitoring'!AM160)

Sheet Processing
B2: Processing
B3: Used for dynamic tables and dashboard visuals (vertical only)
B6: Count of RAG
B8: RAG | C8: Count of RAG
B9: Red | C9: =COUNTIF('2 - Monitoring'!H:H,Processing!$B9) -> 0
B10: Amber | C10: =COUNTIF('2 - Monitoring'!H:H,Processing!$B10) -> 0
B11: Green | C11: =COUNTIF('2 - Monitoring'!H:H,Processing!$B11) -> 0
B12: Blue | C12: =COUNTIF('2 - Monitoring'!H:H,Processing!$B12) -> 0
B13: Total | C13: =SUBTOTAL(109,dash_rag[Count of RAG]) -> 0
B17: Proxy Social Value Delivered £ by theme
B19: Theme | C19: Social value delievered proxy £
B20: =IF(Ref!H8=0,"",Ref!H8) -> #VALUE! | C20: =IF(dash_theme[[#This Row],[Theme]]="","",SUMIF('2 - Monitoring'!W:W,dash_theme[[#This Row],[Theme]],'2 - Monitoring'!G:G)) -> #VALUE!
B21: =IF(Ref!H9=0,"",Ref!H9) | C21: =IF(dash_theme[[#This Row],[Theme]]="","",SUMIF('2 - Monitoring'!W:W,dash_theme[[#This Row],[Theme]],'2 - Monitoring'!G:G))
B22: =IF(Ref!H10=0,"",Ref!H10) | C22: =IF(dash_theme[[#This Row],[Theme]]="","",SUMIF('2 - Monitoring'!W:W,dash_theme[[#This Row],[Theme]],'2 - Monitoring'!G:G))
B23: =IF(Ref!H11=0,"",Ref!H11) | C23: =IF(dash_theme[[#This Row],[Theme]]="","",SUMIF('2 - Monitoring'!W:W,dash_theme[[#This Row],[Theme]],'2 - Monitoring'!G:G))
B24: =IF(Ref!H12=0,"",Ref!H12) | C24: =IF(dash_theme[[#This Row],[Theme]]="","",SUMIF('2 - Monitoring'!W:W,dash_theme[[#This Row],[Theme]],'2 - Monitoring'!G:G))
B25: =IF(Ref!H13=0,"",Ref!H13) | C25: =IF(dash_theme[[#This Row],[Theme]]="","",SUMIF('2 - Monitoring'!W:W,dash_theme[[#This Row],[Theme]],'2 - Monitoring'!G:G))
B26: =IF(Ref!H14=0,"",Ref!H14) | C26: =IF(dash_theme[[#This Row],[Theme]]="","",SUMIF('2 - Monitoring'!W:W,dash_theme[[#This Row],[Theme]],'2 - Monitoring'!G:G))
B27: =IF(Ref!H15=0,"",Ref!H15) | C27: =IF(dash_theme[[#This Row],[Theme]]="","",SUMIF('2 - Monitoring'!W:W,dash_theme[[#This Row],[Theme]],'2 - Monitoring'!G:G))
B28: =IF(Ref!H16=0,"",Ref!H16) | C28: =IF(dash_theme[[#This Row],[Theme]]="","",SUMIF('2 - Monitoring'!W:W,dash_theme[[#This Row],[Theme]],'2 - Monitoring'!G:G))
B29: =IF(Ref!H17=0,"",Ref!H17) | C29: =IF(dash_theme[[#This Row],[Theme]]="","",SUMIF('2 - Monitoring'!W:W,dash_theme[[#This Row],[Theme]],'2 - Monitoring'!G:G))
B30: =IF(Ref!H18=0,"",Ref!H18) | C30: =IF(dash_theme[[#This Row],[Theme]]="","",SUMIF('2 - Monitoring'!W:W,dash_theme[[#This Row],[Theme]],'2 - Monitoring'!G:G))
B31: =IF(Ref!H19=0,"",Ref!H19) | C31: =IF(dash_theme[[#This Row],[Theme]]="","",SUMIF('2 - Monitoring'!W:W,dash_theme[[#This Row],[Theme]],'2 - Monitoring'!G:G))
... B99: =IF(Ref!H87=0,"",Ref!H87) | C99: =IF(dash_theme[[#This Row],[Theme]]="","",SUMIF('2 - Monitoring'!W:W,dash_theme[[#This Row],[Theme]],'2 - Monitoring'!G:G))
B100: Total | C100: =SUBTOTAL(109,dash_theme[Social value delievered proxy £]) -> #VALUE!
B103: Proxy social value delivery over time
B105: Target | C105: =SUM('2 - Monitoring'!AA16:AA202) -> #VALUE!
B107: Period | C107: Target £ | D107: Proxy social value £ | E107: Delivered £ | F107: Diff
B108: ='2 - Monitoring'!$AB$15 | C108: =$C$105 -> #VALUE! | D108: =IF(dash_time[[#This Row],[Period]]="","",SUM(_xlfn.XLOOKUP(dash_time[[#This Row],[Period]],'2 - Monitoring'!$AB$15:$AM$15,'2 - Monitoring'!$AB$16:$AM$202))) | E108: =IF(dash_time[[#This Row],[Period]]="","",dash_time[[#This Row],[Proxy social value £]]) | F108: =IF(dash_time[[#This Row],[Period]]="","",dash_time[[#This Row],[Delivered £]]-dash_time[[#This Row],[Target £]])
B109: ='2 - Monitoring'!$AC$15 | C109: =$C$105 -> #VALUE! | D109: =IF(dash_time[[#This Row],[Period]]="","",SUM(_xlfn.XLOOKUP(dash_time[[#This Row],[Period]],'2 - Monitoring'!$AB$15:$AM$15,'2 - Monitoring'!$AB$16:$AM$202))) | E109: =IF(dash_time[[#This Row],[Period]]="","",E108+dash_time[[#This Row],[Proxy social value £]]) | F109: =IF(dash_time[[#This Row],[Period]]="","",dash_time[[#This Row],[Delivered £]]-dash_time[[#This Row],[Target £]])
B110: ='2 - Monitoring'!$AD$15 | C110: =$C$105 -> #VALUE! | D110: =IF(dash_time[[#This Row],[Period]]="","",SUM(_xlfn.XLOOKUP(dash_time[[#This Row],[Period]],'2 - Monitoring'!$AB$15:$AM$15,'2 - Monitoring'!$AB$16:$AM$202))) | E110: =IF(dash_time[[#This Row],[Period]]="","",E109+dash_time[[#This Row],[Proxy social value £]]) | F110: =IF(dash_time[[#This Row],[Period]]="","",dash_time[[#This Row],[Delivered £]]-dash_time[[#This Row],[Target £]])
B111: ='2 - Monitoring'!$AE$15 | C111: =$C$105 -> #VALUE! | D111: =IF(dash_time[[#This Row],[Period]]="","",SUM(_xlfn.XLOOKUP(dash_time[[#This Row],[Period]],'2 - Monitoring'!$AB$15:$AM$15,'2 - Monitoring'!$AB$16:$AM$202))) | E111: =IF(dash_time[[#This Row],[Period]]="","",E110+dash_time[[#This Row],[Proxy social value £]]) | F111: =IF(dash_time[[#This Row],[Period]]="","",dash_time[[#This Row],[Delivered £]]-dash_time[[#This Row],[Target £]])
B112: ='2 - Monitoring'!$AF$15 | C112: =$C$105 -> #VALUE! | D112: =IF(dash_time[[#This Row],[Period]]="","",SUM(_xlfn.XLOOKUP(dash_time[[#This Row],[Period]],'2 - Monitoring'!$AB$15:$AM$15,'2 - Monitoring'!$AB$16:$AM$202))) | E112: =IF(dash_time[[#This Row],[Period]]="","",E111+dash_time[[#This Row],[Proxy social value £]]) | F112: =IF(dash_time[[#This Row],[Period]]="","",dash_time[[#This Row],[Delivered £]]-dash_time[[#This Row],[Target £]])
B113: ='2 - Monitoring'!$AG$15 | C113: =$C$105 -> #VALUE! | D113: =IF(dash_time[[#This Row],[Period]]="","",SUM(_xlfn.XLOOKUP(dash_time[[#This Row],[Period]],'2 - Monitoring'!$AB$15:$AM$15,'2 - Monitoring'!$AB$16:$AM$202))) | E113: =IF(dash_time[[#This Row],[Period]]="","",E112+dash_time[[#This Row],[Proxy social value £]]) | F113: =IF(dash_time[[#This Row],[Period]]="","",dash_time[[#This Row],[Delivered £]]-dash_time[[#This Row],[Target £]])
B114: ='2 - Monitoring'!$AH$15 | C114: =$C$105 -> #VALUE! | D114: =IF(dash_time[[#This Row],[Period]]="","",SUM(_xlfn.XLOOKUP(dash_time[[#This Row],[Period]],'2 - Monitoring'!$AB$15:$AM$15,'2 - Monitoring'!$AB$16:$AM$202))) | E114: =IF(dash_time[[#This Row],[Period]]="","",E113+dash_time[[#This Row],[Proxy social value £]]) | F114: =IF(dash_time[[#This Row],[Period]]="","",dash_time[[#This Row],[Delivered £]]-dash_time[[#This Row],[Target £]])
B115: ='2 - Monitoring'!$AI$15 | C115: =$C$105 -> #VALUE! | D115: =IF(dash_time[[#This Row],[Period]]="","",SUM(_xlfn.XLOOKUP(dash_time[[#This Row],[Period]],'2 - Monitoring'!$AB$15:$AM$15,'2 - Monitoring'!$AB$16:$AM$202))) | E115: =IF(dash_time[[#This Row],[Period]]="","",E114+dash_time[[#This Row],[Proxy social value £]]) | F115: =IF(dash_time[[#This Row],[Period]]="","",dash_time[[#This Row],[Delivered £]]-dash_time[[#This Row],[Target £]])
B116: ='2 - Monitoring'!$AJ$15 | C116: =$C$105 -> #VALUE! | D116: =IF(dash_time[[#This Row],[Period]]="","",SUM(_xlfn.XLOOKUP(dash_time[[#This Row],[Period]],'2 - Monitoring'!$AB$15:$AM$15,'2 - Monitoring'!$AB$16:$AM$202))) | E116: =IF(dash_time[[#This Row],[Period]]="","",E115+dash_time[[#This Row],[Proxy social value £]]) | F116: =IF(dash_time[[#This Row],[Period]]="","",dash_time[[#This Row],[Delivered £]]-dash_time[[#This Row],[Target £]])
B117: ='2 - Monitoring'!$AK$15 | C117: =$C$105 -> #VALUE! | D117: =IF(dash_time[[#This Row],[Period]]="","",SUM(_xlfn.XLOOKUP(dash_time[[#This Row],[Period]],'2 - Monitoring'!$AB$15:$AM$15,'2 - Monitoring'!$AB$16:$AM$202))) | E117: =IF(dash_time[[#This Row],[Period]]="","",E116+dash_time[[#This Row],[Proxy social value £]]) | F117: =IF(dash_time[[#This Row],[Period]]="","",dash_time[[#This Row],[Delivered £]]-dash_time[[#This Row],[Target £]])
B118: ='2 - Monitoring'!$AL$15 | C118: =$C$105 -> #VALUE! | D118: =IF(dash_time[[#This Row],[Period]]="","",SUM(_xlfn.XLOOKUP(dash_time[[#This Row],[Period]],'2 - Monitoring'!$AB$15:$AM$15,'2 - Monitoring'!$AB$16:$AM$202))) | E118: =IF(dash_time[[#This Row],[Period]]="","",E117+dash_time[[#This Row],[Proxy social value £]]) | F118: =IF(dash_time[[#This Row],[Period]]="","",dash_time[[#This Row],[Delivered £]]-dash_time[[#This Row],[Target £]])
B119: ='2 - Monitoring'!$AM$15 | C119: =$C$105 -> #VALUE! | D119: =IF(dash_time[[#This Row],[Period]]="","",SUM(_xlfn.XLOOKUP(dash_time[[#This Row],[Period]],'2 - Monitoring'!$AB$15:$AM$15,'2 - Monitoring'!$AB$16:$AM$202))) | E119: =IF(dash_time[[#This Row],[Period]]="","",E118+dash_time[[#This Row],[Proxy social value £]]) | F119: =IF(dash_time[[#This Row],[Period]]="","",dash_time[[#This Row],[Delivered £]]-dash_time[[#This Row],[Target £]])
B120: Total | C120: =SUBTOTAL(109,dash_time[Target £]) -> #VALUE! | D120: =SUBTOTAL(109,dash_time[Proxy social value £]) -> 0 | E120: =SUBTOTAL(109,dash_time[Delivered £]) -> 0 | F120: =SUBTOTAL(109,dash_time[Diff]) -> 0

Sheet Ref
B2: References
B3: Used for lookups and processes (hidden)
F6: =COUNTA(_xlfn.ANCHORARRAY(F8)) -> 1 | G6: =COUNTA(_xlfn.ANCHORARRAY(G8)) -> 1 | H6: =COUNTA(_xlfn.ANCHORARRAY(H8)) -> 1 | M6: =EDATE() | O6: =EDATE( *4)
B7: Frequency | C7: Finance / Regular | D7: General | E7: RAG | F7: Measure | G7: Unique Measures Used | H7: Theme | J7: Time selections | M7: month | O7: Quarter | T7: Year
B8: Month | C8: Financial | D8: Yes | E8: Red | F8: {=_xlfn._xlws.FILTER(measures[Measure],(measures[Measure]<>"")*(measures[Measure]<>0))} -> #VALUE! | G8: {=_xlfn._xlws.SORT(_xlfn.UNIQUE(_xlfn._xlws.FILTER(contract[Social Value Measures],(contract[Social Value Measures]<>"")*(contract[Social Value Measures]<>0))))} -> #VALUE! | H8: {=_xlfn._xlws.SORT(_xlfn.UNIQUE(_xlfn._xlws.FILTER(measures[Theme],(measures[Measure]<>"")*(measures[Measure]<>0))))} -> #VALUE! | M8: month | N8: text | O8: month.no | P8: fin | Q8: reg | R8: year | S8: concat | T8: year | V8: month | W8: financial | X8: regular
B9: Quarter | C9: Regular | D9: No | E9: Amber | J9: Start Date | K9: =reporting_start -> 0 | L9: 1 | M9: =EDATE(reporting_start,$L9-1) -> 0 | N9: =TEXT(M9,"mmm-yy") -> Jan-00 | O9: =MONTH(EDATE(reporting_start,($L9-1)*3)) -> 1 | P9: =_xlfn.XLOOKUP(O9,$V$9:$V$20,$W$9:$W$20) -> Q4 | Q9: =_xlfn.XLOOKUP(O9,$V$9:$V$20,$X$9:$X$20) -> Q1 | R9: =YEAR(EDATE(reporting_start,($L9-1)*3)) -> 1900 | S9: =IF(reporting_type=$C$8,_xlfn.CONCAT($P9,"-",$R9),_xlfn.CONCAT($Q9,"-",$R9)) -> Q1-1900 | T9: =YEAR(EDATE(reporting_start,($L9-1)*12)) -> 1900 | V9: 1 | W9: Q4 | X9: Q1
B10: Year | D10: Maybe | E10: Green | J10: Selected frequency | K10: =reporting_frequency -> 0 | L10: 2 | M10: =EDATE(reporting_start,$L10-1) -> 31 | N10: =TEXT(M10,"mmm-yy") -> Jan-00 | O10: =MONTH(EDATE(reporting_start,($L10-1)*3)) -> 3 | P10: =_xlfn.XLOOKUP(O10,$V$9:$V$20,$W$9:$W$20) -> Q4 | Q10: =_xlfn.XLOOKUP(O10,$V$9:$V$20,$X$9:$X$20) -> Q1 | R10: =YEAR(EDATE(reporting_start,($L10-1)*3)) -> 1900 | S10: =IF(reporting_type=$C$8,_xlfn.CONCAT($P10,"-",$R10),_xlfn.CONCAT($Q10,"-",$R10)) -> Q1-1900 | T10: =YEAR(EDATE(reporting_start,($L10-1)*12)) -> 1900 | V10: 2 | W10: Q4 | X10: Q1
D11: Other | E11: Blue | J11: selected type | K11: =reporting_type -> 0 | L11: 3 | M11: =EDATE(reporting_start,$L11-1) -> 60 | N11: =TEXT(M11,"mmm-yy") -> Feb-00 | O11: =MONTH(EDATE(reporting_start,($L11-1)*3)) -> 6 | P11: =_xlfn.XLOOKUP(O11,$V$9:$V$20,$W$9:$W$20) -> Q1 | Q11: =_xlfn.XLOOKUP(O11,$V$9:$V$20,$X$9:$X$20) -> Q2 | R11: =YEAR(EDATE(reporting_start,($L11-1)*3)) -> 1900 | S11: =IF(reporting_type=$C$8,_xlfn.CONCAT($P11,"-",$R11),_xlfn.CONCAT($Q11,"-",$R11)) -> Q2-1900 | T11: =YEAR(EDATE(reporting_start,($L11-1)*12)) -> 1901 | V11: 3 | W11: Q4 | X11: Q1
L12: 4 | M12: =EDATE(reporting_start,$L12-1) -> 91 | N12: =TEXT(M12,"mmm-yy") -> Mar-00 | O12: =MONTH(EDATE(reporting_start,($L12-1)*3)) -> 9 | P12: =_xlfn.XLOOKUP(O12,$V$9:$V$20,$W$9:$W$20) -> Q2 | Q12: =_xlfn.XLOOKUP(O12,$V$9:$V$20,$X$9:$X$20) -> Q3 | R12: =YEAR(EDATE(reporting_start,($L12-1)*3)) -> 1900 | S12: =IF(reporting_type=$C$8,_xlfn.CONCAT($P12,"-",$R12),_xlfn.CONCAT($Q12,"-",$R12)) -> Q3-1900 | T12: =YEAR(EDATE(reporting_start,($L12-1)*12)) -> 1902 | V12: 4 | W12: Q1 | X12: Q2
L13: 5 | M13: =EDATE(reporting_start,$L13-1) -> 121 | N13: =TEXT(M13,"mmm-yy") -> Apr-00 | O13: =MONTH(EDATE(reporting_start,($L13-1)*3)) -> 12 | P13: =_xlfn.XLOOKUP(O13,$V$9:$V$20,$W$9:$W$20) -> Q3 | Q13: =_xlfn.XLOOKUP(O13,$V$9:$V$20,$X$9:$X$20) -> Q4 | R13: =YEAR(EDATE(reporting_start,($L13-1)*3)) -> 1900 | S13: =IF(reporting_type=$C$8,_xlfn.CONCAT($P13,"-",$R13),_xlfn.CONCAT($Q13,"-",$R13)) -> Q4-1900 | T13: =YEAR(EDATE(reporting_start,($L13-1)*12)) -> 1903 | V13: 5 | W13: Q1 | X13: Q2
L14: 6 | M14: =EDATE(reporting_start,$L14-1) -> 152 | N14: =TEXT(M14,"mmm-yy") -> May-00 | O14: =MONTH(EDATE(reporting_start,($L14-1)*3)) -> 3 | P14: =_xlfn.XLOOKUP(O14,$V$9:$V$20,$W$9:$W$20) -> Q4 | Q14: =_xlfn.XLOOKUP(O14,$V$9:$V$20,$X$9:$X$20) -> Q1 | R14: =YEAR(EDATE(reporting_start,($L14-1)*3)) -> 1901 | S14: =IF(reporting_type=$C$8,_xlfn.CONCAT($P14,"-",$R14),_xlfn.CONCAT($Q14,"-",$R14)) -> Q1-1901 | T14: =YEAR(EDATE(reporting_start,($L14-1)*12)) -> 1904 | V14: 6 | W14: Q1 | X14: Q2
L15: 7 | M15: =EDATE(reporting_start,$L15-1) -> 182 | N15: =TEXT(M15,"mmm-yy") -> Jun-00 | O15: =MONTH(EDATE(reporting_start,($L15-1)*3)) -> 6 | P15: =_xlfn.XLOOKUP(O15,$V$9:$V$20,$W$9:$W$20) -> Q1 | Q15: =_xlfn.XLOOKUP(O15,$V$9:$V$20,$X$9:$X$20) -> Q2 | R15: =YEAR(EDATE(reporting_start,($L15-1)*3)) -> 1901 | S15: =IF(reporting_type=$C$8,_xlfn.CONCAT($P15,"-",$R15),_xlfn.CONCAT($Q15,"-",$R15)) -> Q2-1901 | T15: =YEAR(EDATE(reporting_start,($L15-1)*12)) -> 1905 | V15: 7 | W15: Q2 | X15: Q3
L16: 8 | M16: =EDATE(reporting_start,$L16-1) -> 213 | N16: =TEXT(M16,"mmm-yy") -> Jul-00 | O16: =MONTH(EDATE(reporting_start,($L16-1)*3)) -> 9 | P16: =_xlfn.XLOOKUP(O16,$V$9:$V$20,$W$9:$W$20) -> Q2 | Q16: =_xlfn.XLOOKUP(O16,$V$9:$V$20,$X$9:$X$20) -> Q3 | R16: =YEAR(EDATE(reporting_start,($L16-1)*3)) -> 1901 | S16: =IF(reporting_type=$C$8,_xlfn.CONCAT($P16,"-",$R16),_xlfn.CONCAT($Q16,"-",$R16)) -> Q3-1901 | T16: =YEAR(EDATE(reporting_start,($L16-1)*12)) -> 1906 | V16: 8 | W16: Q2 | X16: Q3
L17: 9 | M17: =EDATE(reporting_start,$L17-1) -> 244 | N17: =TEXT(M17,"mmm-yy") -> Aug-00 | O17: =MONTH(EDATE(reporting_start,($L17-1)*3)) -> 12 | P17: =_xlfn.XLOOKUP(O17,$V$9:$V$20,$W$9:$W$20) -> Q3 | Q17: =_xlfn.XLOOKUP(O17,$V$9:$V$20,$X$9:$X$20) -> Q4 | R17: =YEAR(EDATE(reporting_start,($L17-1)*3)) -> 1901 | S17: =IF(reporting_type=$C$8,_xlfn.CONCAT($P17,"-",$R17),_xlfn.CONCAT($Q17,"-",$R17)) -> Q4-1901 | T17: =YEAR(EDATE(reporting_start,($L17-1)*12)) -> 1907 | V17: 9 | W17: Q2 | X17: Q3
L18: 10 | M18: =EDATE(reporting_start,$L18-1) -> 274 | N18: =TEXT(M18,"mmm-yy") -> Sep-00 | O18: =MONTH(EDATE(reporting_start,($L18-1)*3)) -> 3 | P18: =_xlfn.XLOOKUP(O18,$V$9:$V$20,$W$9:$W$20) -> Q4 | Q18: =_xlfn.XLOOKUP(O18,$V$9:$V$20,$X$9:$X$20) -> Q1 | R18: =YEAR(EDATE(reporting_start,($L18-1)*3)) -> 1902 | S18: =IF(reporting_type=$C$8,_xlfn.CONCAT($P18,"-",$R18),_xlfn.CONCAT($Q18,"-",$R18)) -> Q1-1902 | T18: =YEAR(EDATE(reporting_start,($L18-1)*12)) -> 1908 | V18: 10 | W18: Q3 | X18: Q4
L19: 11 | M19: =EDATE(reporting_start,$L19-1) -> 305 | N19: =TEXT(M19,"mmm-yy") -> Oct-00 | O19: =MONTH(EDATE(reporting_start,($L19-1)*3)) -> 6 | P19: =_xlfn.XLOOKUP(O19,$V$9:$V$20,$W$9:$W$20) -> Q1 | Q19: =_xlfn.XLOOKUP(O19,$V$9:$V$20,$X$9:$X$20) -> Q2 | R19: =YEAR(EDATE(reporting_start,($L19-1)*3)) -> 1902 | S19: =IF(reporting_type=$C$8,_xlfn.CONCAT($P19,"-",$R19),_xlfn.CONCAT($Q19,"-",$R19)) -> Q2-1902 | T19: =YEAR(EDATE(reporting_start,($L19-1)*12)) -> 1909 | V19: 11 | W19: Q3 | X19: Q4
L20: 12 | M20: =EDATE(reporting_start,$L20-1) -> 335 | N20: =TEXT(M20,"mmm-yy") -> Nov-00 | O20: =MONTH(EDATE(reporting_start,($L20-1)*3)) -> 9 | P20: =_xlfn.XLOOKUP(O20,$V$9:$V$20,$W$9:$W$20) -> Q2 | Q20: =_xlfn.XLOOKUP(O20,$V$9:$V$20,$X$9:$X$20) -> Q3 | R20: =YEAR(EDATE(reporting_start,($L20-1)*3)) -> 1902 | S20: =IF(reporting_type=$C$8,_xlfn.CONCAT($P20,"-",$R20),_xlfn.CONCAT($Q20,"-",$R20)) -> Q3-1902 | T20: =YEAR(EDATE(reporting_start,($L20-1)*12)) -> 1910 | V20: 12 | W20: Q3 | X20: Q4
